BEGIN:VCALENDAR
VERSION:2.0
PRODID:-//Beit David Messianic Fellowship - ECPv5.12.2//NONSGML v1.0//EN
CALSCALE:GREGORIAN
METHOD:PUBLISH
X-WR-CALNAME:Beit David Messianic Fellowship
X-ORIGINAL-URL:https://beitdavid.org
X-WR-CALDESC:Events for Beit David Messianic Fellowship
REFRESH-INTERVAL;VALUE=DURATION:PT1H
X-Robots-Tag:noindex
X-PUBLISHED-TTL:PT1H
BEGIN:VTIMEZONE
TZID:UTC
BEGIN:STANDARD
TZOFFSETFROM:+0000
TZOFFSETTO:+0000
TZNAME:UTC
DTSTART:20200101T000000
END:STANDARD
END:VTIMEZONE
BEGIN:VEVENT
DTSTART;TZID=UTC:20200307T100000
DTEND;TZID=UTC:20200307T100000
DTSTAMP:20260424T120427
CREATED:20200213T122305Z
LAST-MODIFIED:20200213T122305Z
UID:740-1583575200-1583575200@beitdavid.org
SUMMARY:Purim Celebration
DESCRIPTION:Service starts at 10:00 am.  Join us for our Purim celebration after Oneg as we read the story of Esther and feast on hamentaschen.
URL:https://beitdavid.org/events-calendar/purim-celebration/
END:VEVENT
END:VCALENDAR