BEGIN:VCALENDAR
VERSION:2.0
PRODID:-//Beit David Messianic Fellowship - ECPv5.12.2//NONSGML v1.0//EN
CALSCALE:GREGORIAN
METHOD:PUBLISH
X-WR-CALNAME:Beit David Messianic Fellowship
X-ORIGINAL-URL:https://beitdavid.org
X-WR-CALDESC:Events for Beit David Messianic Fellowship
REFRESH-INTERVAL;VALUE=DURATION:PT1H
X-Robots-Tag:noindex
X-PUBLISHED-TTL:PT1H
BEGIN:VTIMEZONE
TZID:UTC
BEGIN:STANDARD
TZOFFSETFROM:+0000
TZOFFSETTO:+0000
TZNAME:UTC
DTSTART:20200101T000000
END:STANDARD
END:VTIMEZONE
BEGIN:VEVENT
DTSTART;VALUE=DATE:20200411
DTEND;VALUE=DATE:20200412
DTSTAMP:20260424T102826
CREATED:20200213T122341Z
LAST-MODIFIED:20200213T122341Z
UID:742-1586563200-1586649599@beitdavid.org
SUMMARY:Passover Seder
DESCRIPTION:No morning service in Long Beach. Join us for our Passover Seder celebration at the Long Beach Airport Marriott.  Further details and information about purchasing tickets will be posted soon.
URL:https://beitdavid.org/events-calendar/passover-seder/
END:VEVENT
END:VCALENDAR