BEGIN:VCALENDAR
VERSION:2.0
PRODID:-//Beit David Messianic Fellowship - ECPv5.12.2//NONSGML v1.0//EN
CALSCALE:GREGORIAN
METHOD:PUBLISH
X-WR-CALNAME:Beit David Messianic Fellowship
X-ORIGINAL-URL:https://beitdavid.org
X-WR-CALDESC:Events for Beit David Messianic Fellowship
REFRESH-INTERVAL;VALUE=DURATION:PT1H
X-Robots-Tag:noindex
X-PUBLISHED-TTL:PT1H
BEGIN:VTIMEZONE
TZID:UTC
BEGIN:STANDARD
TZOFFSETFROM:+0000
TZOFFSETTO:+0000
TZNAME:UTC
DTSTART:20200101T000000
END:STANDARD
END:VTIMEZONE
BEGIN:VEVENT
DTSTART;TZID=UTC:20200912T100000
DTEND;TZID=UTC:20200912T120000
DTSTAMP:20260424T032249
CREATED:20200912T223231Z
LAST-MODIFIED:20200912T223231Z
UID:1005-1599904800-1599912000@beitdavid.org
SUMMARY:Shabbat Service
DESCRIPTION:Weekly worship service\, including prayer and liturgy.  We are currently holding our services online.  Contact us for details.
URL:https://beitdavid.org/events-calendar/shabbat-service/
END:VEVENT
BEGIN:VEVENT
DTSTART;TZID=UTC:20200912T130000
DTEND;TZID=UTC:20200912T160000
DTSTAMP:20260424T032249
CREATED:20200920T065151Z
LAST-MODIFIED:20200920T065151Z
UID:1008-1599915600-1599926400@beitdavid.org
SUMMARY:Bible Study
DESCRIPTION:Join us for weekly Bible Study/Torah Club after morning services.  We are currently holding our Bible Study online.  Contact us for details.
URL:https://beitdavid.org/events-calendar/bible-study/
END:VEVENT
END:VCALENDAR