BEGIN:VCALENDAR
VERSION:2.0
PRODID:-//Beit David Messianic Fellowship - ECPv5.12.2//NONSGML v1.0//EN
CALSCALE:GREGORIAN
METHOD:PUBLISH
X-WR-CALNAME:Beit David Messianic Fellowship
X-ORIGINAL-URL:https://beitdavid.org
X-WR-CALDESC:Events for Beit David Messianic Fellowship
REFRESH-INTERVAL;VALUE=DURATION:PT1H
X-Robots-Tag:noindex
X-PUBLISHED-TTL:PT1H
BEGIN:VTIMEZONE
TZID:UTC
BEGIN:STANDARD
TZOFFSETFROM:+0000
TZOFFSETTO:+0000
TZNAME:UTC
DTSTART:20200101T000000
END:STANDARD
END:VTIMEZONE
BEGIN:VEVENT
DTSTART;TZID=UTC:20200928T170000
DTEND;TZID=UTC:20200928T190000
DTSTAMP:20260424T015423
CREATED:20200920T071016Z
LAST-MODIFIED:20200920T071016Z
UID:1026-1601312400-1601319600@beitdavid.org
SUMMARY:Yom Kippur Service
DESCRIPTION:Conclude the observance of the Day of Atonement and day of fasting with the Yom Kippur service. We are currently holding our services online.  Contact us for details.
URL:https://beitdavid.org/events-calendar/yom-kippur-service/
END:VEVENT
END:VCALENDAR