BEGIN:VCALENDAR
VERSION:2.0
PRODID:-//Beit David Messianic Fellowship - ECPv5.12.2//NONSGML v1.0//EN
CALSCALE:GREGORIAN
METHOD:PUBLISH
X-WR-CALNAME:Beit David Messianic Fellowship
X-ORIGINAL-URL:https://beitdavid.org
X-WR-CALDESC:Events for Beit David Messianic Fellowship
REFRESH-INTERVAL;VALUE=DURATION:PT1H
X-Robots-Tag:noindex
X-PUBLISHED-TTL:PT1H
BEGIN:VTIMEZONE
TZID:UTC
BEGIN:STANDARD
TZOFFSETFROM:+0000
TZOFFSETTO:+0000
TZNAME:UTC
DTSTART:20200101T000000
END:STANDARD
END:VTIMEZONE
BEGIN:VEVENT
DTSTART;TZID=UTC:20201003T100000
DTEND;TZID=UTC:20201003T140000
DTSTAMP:20260424T015434
CREATED:20200920T071252Z
LAST-MODIFIED:20200920T071252Z
UID:1028-1601719200-1601733600@beitdavid.org
SUMMARY:Sukkot Celebration
DESCRIPTION:Celebrate the Festival of Booths and wave the lulav and etrog.  We are currently holding most of our services online.  Contact us for details.
URL:https://beitdavid.org/events-calendar/sukkot-celebration/
END:VEVENT
END:VCALENDAR