BEGIN:VCALENDAR
VERSION:2.0
PRODID:-//Beit David Messianic Fellowship - ECPv5.12.2//NONSGML v1.0//EN
CALSCALE:GREGORIAN
METHOD:PUBLISH
X-WR-CALNAME:Beit David Messianic Fellowship
X-ORIGINAL-URL:https://beitdavid.org
X-WR-CALDESC:Events for Beit David Messianic Fellowship
REFRESH-INTERVAL;VALUE=DURATION:PT1H
X-Robots-Tag:noindex
X-PUBLISHED-TTL:PT1H
BEGIN:VTIMEZONE
TZID:UTC
BEGIN:STANDARD
TZOFFSETFROM:+0000
TZOFFSETTO:+0000
TZNAME:UTC
DTSTART:20200101T000000
END:STANDARD
END:VTIMEZONE
BEGIN:VEVENT
DTSTART;TZID=UTC:20201017T100000
DTEND;TZID=UTC:20201017T120000
DTSTAMP:20260424T015235
CREATED:20200920T070241Z
LAST-MODIFIED:20200920T070241Z
UID:1017-1602928800-1602936000@beitdavid.org
SUMMARY:Shabbat Service
DESCRIPTION:Weekly worship service\, including prayer and liturgy.  We are currently holding our services online.  Contact us for details.
URL:https://beitdavid.org/events-calendar/shabbat-service-2/
END:VEVENT
BEGIN:VEVENT
DTSTART;TZID=UTC:20201017T130000
DTEND;TZID=UTC:20201017T160000
DTSTAMP:20260424T015235
CREATED:20200920T071851Z
LAST-MODIFIED:20200920T071851Z
UID:1034-1602939600-1602950400@beitdavid.org
SUMMARY:Bible Study
DESCRIPTION:Join us for weekly Bible Study/Torah Club after morning services.  We are currently holding our Bible Study online.  Contact us for details.
URL:https://beitdavid.org/events-calendar/bible-study-3/
END:VEVENT
END:VCALENDAR