BEGIN:VCALENDAR
VERSION:2.0
PRODID:-//Beit David Messianic Fellowship - ECPv5.12.2//NONSGML v1.0//EN
CALSCALE:GREGORIAN
METHOD:PUBLISH
X-WR-CALNAME:Beit David Messianic Fellowship
X-ORIGINAL-URL:https://beitdavid.org
X-WR-CALDESC:Events for Beit David Messianic Fellowship
REFRESH-INTERVAL;VALUE=DURATION:PT1H
X-Robots-Tag:noindex
X-PUBLISHED-TTL:PT1H
BEGIN:VTIMEZONE
TZID:UTC
BEGIN:STANDARD
TZOFFSETFROM:+0000
TZOFFSETTO:+0000
TZNAME:UTC
DTSTART:20210101T000000
END:STANDARD
END:VTIMEZONE
BEGIN:VEVENT
DTSTART;TZID=UTC:20210227T100000
DTEND;TZID=UTC:20210227T150000
DTSTAMP:20260423T203406
CREATED:20210319T010843Z
LAST-MODIFIED:20210319T010843Z
UID:1160-1614420000-1614438000@beitdavid.org
SUMMARY:Shabbat Service and Purim Celebration
DESCRIPTION:Weekly worship service\, including prayer and liturgy.  We are currently holding our services online. Contact us for details.
URL:https://beitdavid.org/events-calendar/shabbat-service-and-purim-celebration/
END:VEVENT
END:VCALENDAR