BEGIN:VCALENDAR
VERSION:2.0
PRODID:-//Beit David Messianic Fellowship - ECPv5.12.2//NONSGML v1.0//EN
CALSCALE:GREGORIAN
METHOD:PUBLISH
X-WR-CALNAME:Beit David Messianic Fellowship
X-ORIGINAL-URL:https://beitdavid.org
X-WR-CALDESC:Events for Beit David Messianic Fellowship
REFRESH-INTERVAL;VALUE=DURATION:PT1H
X-Robots-Tag:noindex
X-PUBLISHED-TTL:PT1H
BEGIN:VTIMEZONE
TZID:UTC
BEGIN:STANDARD
TZOFFSETFROM:+0000
TZOFFSETTO:+0000
TZNAME:UTC
DTSTART:20210101T000000
END:STANDARD
END:VTIMEZONE
BEGIN:VEVENT
DTSTART;TZID=UTC:20211002T100000
DTEND;TZID=UTC:20211002T120000
DTSTAMP:20260423T100503
CREATED:20210901T205041Z
LAST-MODIFIED:20210901T205041Z
UID:1283-1633168800-1633176000@beitdavid.org
SUMMARY:Shabbat Service - Simchat Torah Celebration
DESCRIPTION:Come share in the Joy of the Torah with us! \nWeekly worship service\, including prayer and liturgy.  This week is our Simchat Torah Celebration service and we will meet in person\, and also share the service online via Zoom. Contact us for details.
URL:https://beitdavid.org/events-calendar/shabbat-service-simchat-torah-celebration/
END:VEVENT
BEGIN:VEVENT
DTSTART;TZID=UTC:20211002T130000
DTEND;TZID=UTC:20211002T160000
DTSTAMP:20260423T100503
CREATED:20210901T212120Z
LAST-MODIFIED:20210901T212120Z
UID:1317-1633179600-1633190400@beitdavid.org
SUMMARY:Bible Study
DESCRIPTION:We’ll continue our celebration of Simchat Torah through our Bible study time. \nJoin us for weekly Bible study/Torah Club after morning services. We meet after our oneg meal and also share the discussion on Zoom.  Contact us for details.
URL:https://beitdavid.org/events-calendar/bible-study-43/
END:VEVENT
END:VCALENDAR