BEGIN:VCALENDAR
VERSION:2.0
PRODID:-//Beit David Messianic Fellowship - ECPv5.12.2//NONSGML v1.0//EN
CALSCALE:GREGORIAN
METHOD:PUBLISH
X-WR-CALNAME:Beit David Messianic Fellowship
X-ORIGINAL-URL:https://beitdavid.org
X-WR-CALDESC:Events for Beit David Messianic Fellowship
REFRESH-INTERVAL;VALUE=DURATION:PT1H
X-Robots-Tag:noindex
X-PUBLISHED-TTL:PT1H
BEGIN:VTIMEZONE
TZID:UTC
BEGIN:STANDARD
TZOFFSETFROM:+0000
TZOFFSETTO:+0000
TZNAME:UTC
DTSTART:20210101T000000
END:STANDARD
END:VTIMEZONE
BEGIN:VEVENT
DTSTART;TZID=UTC:20211016T100000
DTEND;TZID=UTC:20211016T120000
DTSTAMP:20260423T100516
CREATED:20210901T205615Z
LAST-MODIFIED:20210901T205615Z
UID:1287-1634378400-1634385600@beitdavid.org
SUMMARY:Shabbat Service
DESCRIPTION:Weekly worship service\, including prayer and liturgy.  This week is our Messianic Perspectives service and we will meet in person\, and also share the service online via Zoom. Contact us for details.
URL:https://beitdavid.org/events-calendar/shabbat-service-41/
END:VEVENT
BEGIN:VEVENT
DTSTART;TZID=UTC:20211016T130000
DTEND;TZID=UTC:20211016T160000
DTSTAMP:20260423T100516
CREATED:20210901T212958Z
LAST-MODIFIED:20210901T212958Z
UID:1321-1634389200-1634400000@beitdavid.org
SUMMARY:Beit David Annual Meeting
DESCRIPTION:After our oneg meal\, we will conduct our Annual Meeting.  We will use this time to provide an overview of the congregation’s business operations and financial status. We will also report on the activities of the past year and share plans for the coming year.
URL:https://beitdavid.org/events-calendar/beit-david-annual-meeting/
END:VEVENT
END:VCALENDAR