BEGIN:VCALENDAR
VERSION:2.0
PRODID:-//Beit David Messianic Fellowship - ECPv5.12.2//NONSGML v1.0//EN
CALSCALE:GREGORIAN
METHOD:PUBLISH
X-WR-CALNAME:Beit David Messianic Fellowship
X-ORIGINAL-URL:https://beitdavid.org
X-WR-CALDESC:Events for Beit David Messianic Fellowship
REFRESH-INTERVAL;VALUE=DURATION:PT1H
X-Robots-Tag:noindex
X-PUBLISHED-TTL:PT1H
BEGIN:VTIMEZONE
TZID:UTC
BEGIN:STANDARD
TZOFFSETFROM:+0000
TZOFFSETTO:+0000
TZNAME:UTC
DTSTART:20210101T000000
END:STANDARD
END:VTIMEZONE
BEGIN:VEVENT
DTSTART;VALUE=DATE:20211127
DTEND;VALUE=DATE:20211128
DTSTAMP:20260423T084435
CREATED:20211128T212048Z
LAST-MODIFIED:20211128T212048Z
UID:1349-1637971200-1638057599@beitdavid.org
SUMMARY:Thanksgiving Holiday Weekend - NO Service
DESCRIPTION:We are taking this weekend off to allow our leaders to rest and spend time with their families.  Enjoy your celebration and we’ll see you next week!
URL:https://beitdavid.org/events-calendar/thanksgiving-holiday-weekend-no-service/
END:VEVENT
END:VCALENDAR