BEGIN:VCALENDAR
VERSION:2.0
PRODID:-//Beit David Messianic Fellowship - ECPv5.12.2//NONSGML v1.0//EN
CALSCALE:GREGORIAN
METHOD:PUBLISH
X-WR-CALNAME:Beit David Messianic Fellowship
X-ORIGINAL-URL:https://beitdavid.org
X-WR-CALDESC:Events for Beit David Messianic Fellowship
REFRESH-INTERVAL;VALUE=DURATION:PT1H
X-Robots-Tag:noindex
X-PUBLISHED-TTL:PT1H
BEGIN:VTIMEZONE
TZID:UTC
BEGIN:STANDARD
TZOFFSETFROM:+0000
TZOFFSETTO:+0000
TZNAME:UTC
DTSTART:20220101T000000
END:STANDARD
END:VTIMEZONE
BEGIN:VEVENT
DTSTART;TZID=UTC:20220416T110000
DTEND;TZID=UTC:20220416T140000
DTSTAMP:20260423T014613
CREATED:20221010T061758Z
LAST-MODIFIED:20221010T061758Z
UID:1526-1650106800-1650117600@beitdavid.org
SUMMARY:Passover Seder
DESCRIPTION:We will celebrate Passover together at our congregational seder at the Long Beach Airport Marriott.  Contact us for details and to purchase tickets.
URL:https://beitdavid.org/events-calendar/passover-seder-3/
END:VEVENT
END:VCALENDAR