BEGIN:VCALENDAR
VERSION:2.0
PRODID:-//Beit David Messianic Fellowship - ECPv5.12.2//NONSGML v1.0//EN
CALSCALE:GREGORIAN
METHOD:PUBLISH
X-WR-CALNAME:Beit David Messianic Fellowship
X-ORIGINAL-URL:https://beitdavid.org
X-WR-CALDESC:Events for Beit David Messianic Fellowship
REFRESH-INTERVAL;VALUE=DURATION:PT1H
X-Robots-Tag:noindex
X-PUBLISHED-TTL:PT1H
BEGIN:VTIMEZONE
TZID:UTC
BEGIN:STANDARD
TZOFFSETFROM:+0000
TZOFFSETTO:+0000
TZNAME:UTC
DTSTART:20220101T000000
END:STANDARD
END:VTIMEZONE
BEGIN:VEVENT
DTSTART;VALUE=DATE:20220604
DTEND;VALUE=DATE:20220605
DTSTAMP:20260422T224528
CREATED:20221010T083103Z
LAST-MODIFIED:20221010T093457Z
UID:1659-1654300800-1654387199@beitdavid.org
SUMMARY:Bible Study
DESCRIPTION:Join us for weekly Bible study/Torah Club after morning services. We begin after our oneg meal and also share the discussion on Zoom.  Contact us for details.
URL:https://beitdavid.org/events-calendar/bible-study-74/
END:VEVENT
BEGIN:VEVENT
DTSTART;TZID=UTC:20220604T100000
DTEND;TZID=UTC:20220604T120000
DTSTAMP:20260422T224528
CREATED:20221010T083018Z
LAST-MODIFIED:20221010T083018Z
UID:1658-1654336800-1654344000@beitdavid.org
SUMMARY:Shabbat Service and Shavuot Celebration
DESCRIPTION:Celebrate the Feast of Weeks\, commemorating God’s gift of the Torah at Mount Sinai. Weekly worship service\, including prayer and liturgy.  This week is our Torah service and we will meet in person\, and also share the service online via Zoom. Contact us for details.
URL:https://beitdavid.org/events-calendar/shabbat-service-and-shavuot-celebration/
END:VEVENT
END:VCALENDAR