BEGIN:VCALENDAR
VERSION:2.0
PRODID:-//Beit David Messianic Fellowship - ECPv5.12.2//NONSGML v1.0//EN
CALSCALE:GREGORIAN
METHOD:PUBLISH
X-WR-CALNAME:Beit David Messianic Fellowship
X-ORIGINAL-URL:https://beitdavid.org
X-WR-CALDESC:Events for Beit David Messianic Fellowship
REFRESH-INTERVAL;VALUE=DURATION:PT1H
X-Robots-Tag:noindex
X-PUBLISHED-TTL:PT1H
BEGIN:VTIMEZONE
TZID:UTC
BEGIN:STANDARD
TZOFFSETFROM:+0000
TZOFFSETTO:+0000
TZNAME:UTC
DTSTART:20220101T000000
END:STANDARD
END:VTIMEZONE
BEGIN:VEVENT
DTSTART;TZID=UTC:20220625T100000
DTEND;TZID=UTC:20220625T120000
DTSTAMP:20260422T225052
CREATED:20221010T065226Z
LAST-MODIFIED:20221010T065226Z
UID:1571-1656151200-1656158400@beitdavid.org
SUMMARY:Shabbat Service
DESCRIPTION:Weekly worship service\, including prayer and liturgy.  This week is our Family service and we will meet in person\, and also share the service online via Zoom. Contact us for details.
URL:https://beitdavid.org/events-calendar/shabbat-service-79/
END:VEVENT
BEGIN:VEVENT
DTSTART;TZID=UTC:20220625T130000
DTEND;TZID=UTC:20220625T150000
DTSTAMP:20260422T225052
CREATED:20221010T065321Z
LAST-MODIFIED:20221010T065321Z
UID:1573-1656162000-1656169200@beitdavid.org
SUMMARY:Bible Study
DESCRIPTION:Join us for weekly Bible study/Torah Club after morning services. We begin after our oneg meal and also share the discussion on Zoom.  Contact us for details.
URL:https://beitdavid.org/events-calendar/bible-study-80/
END:VEVENT
END:VCALENDAR