BEGIN:VCALENDAR
VERSION:2.0
PRODID:-//Beit David Messianic Fellowship - ECPv5.12.2//NONSGML v1.0//EN
CALSCALE:GREGORIAN
METHOD:PUBLISH
X-WR-CALNAME:Beit David Messianic Fellowship
X-ORIGINAL-URL:https://beitdavid.org
X-WR-CALDESC:Events for Beit David Messianic Fellowship
REFRESH-INTERVAL;VALUE=DURATION:PT1H
X-Robots-Tag:noindex
X-PUBLISHED-TTL:PT1H
BEGIN:VTIMEZONE
TZID:UTC
BEGIN:STANDARD
TZOFFSETFROM:+0000
TZOFFSETTO:+0000
TZNAME:UTC
DTSTART:20220101T000000
END:STANDARD
END:VTIMEZONE
BEGIN:VEVENT
DTSTART;TZID=UTC:20220820T100000
DTEND;TZID=UTC:20220820T120000
DTSTAMP:20260422T202052
CREATED:20221010T073325Z
LAST-MODIFIED:20221010T073325Z
UID:1625-1660989600-1660996800@beitdavid.org
SUMMARY:Shabbat Service
DESCRIPTION:Weekly worship service\, including prayer and liturgy.  This week is our Messianic Perspectives service and we will meet in person\, and also share the service online via Zoom. Contact us for details.
URL:https://beitdavid.org/events-calendar/shabbat-service-89/
END:VEVENT
BEGIN:VEVENT
DTSTART;TZID=UTC:20220820T130000
DTEND;TZID=UTC:20220820T160000
DTSTAMP:20260422T202052
CREATED:20221010T073404Z
LAST-MODIFIED:20221010T073404Z
UID:1629-1661000400-1661011200@beitdavid.org
SUMMARY:Messianic Dance Camp
DESCRIPTION:Join us to learn how to praise God with Davidic Dance. We begin after our oneg meal.  Contact us for details.
URL:https://beitdavid.org/events-calendar/messianic-dance-camp-2/
END:VEVENT
END:VCALENDAR