BEGIN:VCALENDAR
VERSION:2.0
PRODID:-//Beit David Messianic Fellowship - ECPv5.12.2//NONSGML v1.0//EN
CALSCALE:GREGORIAN
METHOD:PUBLISH
X-WR-CALNAME:Beit David Messianic Fellowship
X-ORIGINAL-URL:https://beitdavid.org
X-WR-CALDESC:Events for Beit David Messianic Fellowship
REFRESH-INTERVAL;VALUE=DURATION:PT1H
X-Robots-Tag:noindex
X-PUBLISHED-TTL:PT1H
BEGIN:VTIMEZONE
TZID:UTC
BEGIN:STANDARD
TZOFFSETFROM:+0000
TZOFFSETTO:+0000
TZNAME:UTC
DTSTART:20220101T000000
END:STANDARD
END:VTIMEZONE
BEGIN:VEVENT
DTSTART;TZID=UTC:20220926T070000
DTEND;TZID=UTC:20220926T210000
DTSTAMP:20260422T175534
CREATED:20221010T074556Z
LAST-MODIFIED:20221010T074556Z
UID:1654-1664175600-1664226000@beitdavid.org
SUMMARY:Rosh Hashanah Service
DESCRIPTION:Join us as we welcome the new year with our celebration of the Feast of Trumpets! We will meet in person\, and also share the service online via Zoom. Contact us for details.
URL:https://beitdavid.org/events-calendar/rosh-hashanah-service-2/
END:VEVENT
END:VCALENDAR