BEGIN:VCALENDAR
VERSION:2.0
PRODID:-//Beit David Messianic Fellowship - ECPv5.12.2//NONSGML v1.0//EN
CALSCALE:GREGORIAN
METHOD:PUBLISH
X-WR-CALNAME:Beit David Messianic Fellowship
X-ORIGINAL-URL:https://beitdavid.org
X-WR-CALDESC:Events for Beit David Messianic Fellowship
REFRESH-INTERVAL;VALUE=DURATION:PT1H
X-Robots-Tag:noindex
X-PUBLISHED-TTL:PT1H
BEGIN:VTIMEZONE
TZID:UTC
BEGIN:STANDARD
TZOFFSETFROM:+0000
TZOFFSETTO:+0000
TZNAME:UTC
DTSTART:20220101T000000
END:STANDARD
END:VTIMEZONE
BEGIN:VEVENT
DTSTART;TZID=UTC:20221005T170000
DTEND;TZID=UTC:20221005T190000
DTSTAMP:20260422T175356
CREATED:20221005T160932Z
LAST-MODIFIED:20221005T160932Z
UID:1453-1664989200-1664996400@beitdavid.org
SUMMARY:Yom Kippur Service
DESCRIPTION:Join us as we conclude Yom Kippur\, the Day of Atonement.  We will meet in person\, and also share the service online via Zoom. Contact us for details.
URL:https://beitdavid.org/events-calendar/yom-kippur-service-3/
END:VEVENT
BEGIN:VEVENT
DTSTART;TZID=UTC:20221005T190000
DTEND;TZID=UTC:20221005T210000
DTSTAMP:20260422T175356
CREATED:20221005T161033Z
LAST-MODIFIED:20221005T161033Z
UID:1455-1664996400-1665003600@beitdavid.org
SUMMARY:Yom Kippur Break-the-Fast Meal
DESCRIPTION:Join us after the Yom Kippur service as we share a potluck meal to break the fast together.  Feel free to bring something to share.
URL:https://beitdavid.org/events-calendar/yom-kippur-break-the-fast-meal-2/
END:VEVENT
END:VCALENDAR