BEGIN:VCALENDAR
VERSION:2.0
PRODID:-//Beit David Messianic Fellowship - ECPv5.12.2//NONSGML v1.0//EN
CALSCALE:GREGORIAN
METHOD:PUBLISH
X-WR-CALNAME:Beit David Messianic Fellowship
X-ORIGINAL-URL:https://beitdavid.org
X-WR-CALDESC:Events for Beit David Messianic Fellowship
REFRESH-INTERVAL;VALUE=DURATION:PT1H
X-Robots-Tag:noindex
X-PUBLISHED-TTL:PT1H
BEGIN:VTIMEZONE
TZID:UTC
BEGIN:STANDARD
TZOFFSETFROM:+0000
TZOFFSETTO:+0000
TZNAME:UTC
DTSTART:20230101T000000
END:STANDARD
END:VTIMEZONE
BEGIN:VEVENT
DTSTART;TZID=UTC:20230828T100000
DTEND;TZID=UTC:20230828T160000
DTSTAMP:20260422T022527
CREATED:20230914T200215Z
LAST-MODIFIED:20230914T200307Z
UID:1835-1693216800-1693238400@beitdavid.org
SUMMARY:Developing Healthy Messianic Congregations Conference
DESCRIPTION:Register to participate in the Developing Healthy Messianic Congregations Conference hosted by Sam Nadler and Word of Messiah Ministries. We will begin after our oneg meal and also share the discussion on Zoom with registered participants. Contact us for details.
URL:https://beitdavid.org/events-calendar/developing-healthy-messianic-congregations-conference/
END:VEVENT
END:VCALENDAR