BEGIN:VCALENDAR
VERSION:2.0
PRODID:-//Beit David Messianic Fellowship - ECPv5.12.2//NONSGML v1.0//EN
CALSCALE:GREGORIAN
METHOD:PUBLISH
X-WR-CALNAME:Beit David Messianic Fellowship
X-ORIGINAL-URL:https://beitdavid.org
X-WR-CALDESC:Events for Beit David Messianic Fellowship
REFRESH-INTERVAL;VALUE=DURATION:PT1H
X-Robots-Tag:noindex
X-PUBLISHED-TTL:PT1H
BEGIN:VTIMEZONE
TZID:UTC
BEGIN:STANDARD
TZOFFSETFROM:+0000
TZOFFSETTO:+0000
TZNAME:UTC
DTSTART:20230101T000000
END:STANDARD
END:VTIMEZONE
BEGIN:VEVENT
DTSTART;TZID=UTC:20230923T100000
DTEND;TZID=UTC:20230923T120000
DTSTAMP:20260422T022624
CREATED:20230914T235745Z
LAST-MODIFIED:20230914T235745Z
UID:1848-1695463200-1695470400@beitdavid.org
SUMMARY:Shabbat Shuvah Service
DESCRIPTION:Shabbat Shuvah is the Shabbat that occurs during the Ten Days of Repentance between Rosh Hashanah and Yom Kippur. \nWeekly worship service\, including prayer and liturgy.  This week is our Family service and we will meet in person\, and also share the service online via Zoom. Contact us for details.
URL:https://beitdavid.org/events-calendar/shabbat-shuvah-service/
END:VEVENT
BEGIN:VEVENT
DTSTART;TZID=UTC:20230923T130000
DTEND;TZID=UTC:20230923T150000
DTSTAMP:20260422T022624
CREATED:20230914T235906Z
LAST-MODIFIED:20230914T235906Z
UID:1851-1695474000-1695481200@beitdavid.org
SUMMARY:Bible Study
DESCRIPTION:Join us for weekly Bible study/Torah Club after morning services. We begin after our oneg meal and also share the discussion on Zoom.  Contact us for details.
URL:https://beitdavid.org/events-calendar/bible-study-123/
END:VEVENT
END:VCALENDAR