BEGIN:VCALENDAR
VERSION:2.0
PRODID:-//Beit David Messianic Fellowship - ECPv5.12.2//NONSGML v1.0//EN
CALSCALE:GREGORIAN
METHOD:PUBLISH
X-WR-CALNAME:Beit David Messianic Fellowship
X-ORIGINAL-URL:https://beitdavid.org
X-WR-CALDESC:Events for Beit David Messianic Fellowship
REFRESH-INTERVAL;VALUE=DURATION:PT1H
X-Robots-Tag:noindex
X-PUBLISHED-TTL:PT1H
BEGIN:VTIMEZONE
TZID:UTC
BEGIN:STANDARD
TZOFFSETFROM:+0000
TZOFFSETTO:+0000
TZNAME:UTC
DTSTART:20240101T000000
END:STANDARD
END:VTIMEZONE
BEGIN:VEVENT
DTSTART;TZID=UTC:20241011T190000
DTEND;TZID=UTC:20241011T210000
DTSTAMP:20260421T082515
CREATED:20240723T125941Z
LAST-MODIFIED:20240723T125941Z
UID:2047-1728673200-1728680400@beitdavid.org
SUMMARY:Kol Nidre Service
DESCRIPTION:Join us for the opening of the Day of Atonement\, Yom Kippur.  We will meet in person\, and also share the service online via Zoom. Contact us for details.
URL:https://beitdavid.org/events-calendar/kol-nidre-service-5/
END:VEVENT
END:VCALENDAR