BEGIN:VCALENDAR
VERSION:2.0
PRODID:-//Beit David Messianic Fellowship - ECPv5.12.2//NONSGML v1.0//EN
CALSCALE:GREGORIAN
METHOD:PUBLISH
X-WR-CALNAME:Beit David Messianic Fellowship
X-ORIGINAL-URL:https://beitdavid.org
X-WR-CALDESC:Events for Beit David Messianic Fellowship
REFRESH-INTERVAL;VALUE=DURATION:PT1H
X-Robots-Tag:noindex
X-PUBLISHED-TTL:PT1H
BEGIN:VTIMEZONE
TZID:UTC
BEGIN:STANDARD
TZOFFSETFROM:+0000
TZOFFSETTO:+0000
TZNAME:UTC
DTSTART:20200101T000000
END:STANDARD
END:VTIMEZONE
BEGIN:VEVENT
DTSTART;TZID=UTC:20201003T100000
DTEND;TZID=UTC:20201003T140000
DTSTAMP:20260424T004103
CREATED:20200920T071252Z
LAST-MODIFIED:20200920T071252Z
UID:1028-1601719200-1601733600@beitdavid.org
SUMMARY:Sukkot Celebration
DESCRIPTION:Celebrate the Festival of Booths and wave the lulav and etrog.  We are currently holding most of our services online.  Contact us for details.
URL:https://beitdavid.org/events-calendar/sukkot-celebration/
END:VEVENT
BEGIN:VEVENT
DTSTART;TZID=UTC:20201010T100000
DTEND;TZID=UTC:20201010T140000
DTSTAMP:20260424T004103
CREATED:20200920T071446Z
LAST-MODIFIED:20200920T071446Z
UID:1030-1602324000-1602338400@beitdavid.org
SUMMARY:Simchat Torah Celebration
DESCRIPTION:Celebrate the Joy of the Torah as we conclude the Torah cycle for the year and start again at the beginning. We are currently holding our services online.  Contact us for details.
URL:https://beitdavid.org/events-calendar/simchat-torah-celebration/
END:VEVENT
BEGIN:VEVENT
DTSTART;TZID=UTC:20201017T100000
DTEND;TZID=UTC:20201017T120000
DTSTAMP:20260424T004103
CREATED:20200920T070241Z
LAST-MODIFIED:20200920T070241Z
UID:1017-1602928800-1602936000@beitdavid.org
SUMMARY:Shabbat Service
DESCRIPTION:Weekly worship service\, including prayer and liturgy.  We are currently holding our services online.  Contact us for details.
URL:https://beitdavid.org/events-calendar/shabbat-service-2/
END:VEVENT
BEGIN:VEVENT
DTSTART;TZID=UTC:20201017T130000
DTEND;TZID=UTC:20201017T160000
DTSTAMP:20260424T004103
CREATED:20200920T071851Z
LAST-MODIFIED:20200920T071851Z
UID:1034-1602939600-1602950400@beitdavid.org
SUMMARY:Bible Study
DESCRIPTION:Join us for weekly Bible Study/Torah Club after morning services.  We are currently holding our Bible Study online.  Contact us for details.
URL:https://beitdavid.org/events-calendar/bible-study-3/
END:VEVENT
BEGIN:VEVENT
DTSTART;TZID=UTC:20201024T080000
DTEND;TZID=UTC:20201024T170000
DTSTAMP:20260424T004103
CREATED:20200920T070344Z
LAST-MODIFIED:20200920T070344Z
UID:1019-1603526400-1603558800@beitdavid.org
SUMMARY:Shabbat Service
DESCRIPTION:Weekly worship service\, including prayer and liturgy.  We are currently holding our services online.  Contact us for details.
URL:https://beitdavid.org/events-calendar/shabbat-service-3/
END:VEVENT
BEGIN:VEVENT
DTSTART;TZID=UTC:20201024T130000
DTEND;TZID=UTC:20201024T160000
DTSTAMP:20260424T004103
CREATED:20200920T071959Z
LAST-MODIFIED:20200920T071959Z
UID:1036-1603544400-1603555200@beitdavid.org
SUMMARY:Bible Study
DESCRIPTION:Join us for weekly Bible Study/Torah Club after morning services.  We are currently holding our Bible Study online.  Contact us for details.
URL:https://beitdavid.org/events-calendar/bible-study-4/
END:VEVENT
BEGIN:VEVENT
DTSTART;TZID=UTC:20201031T100000
DTEND;TZID=UTC:20201031T120000
DTSTAMP:20260424T004103
CREATED:20200920T070457Z
LAST-MODIFIED:20200920T070457Z
UID:1022-1604138400-1604145600@beitdavid.org
SUMMARY:Shabbat Service
DESCRIPTION:Weekly worship service\, including prayer and liturgy.  We are currently holding our services online.  Contact us for details.
URL:https://beitdavid.org/events-calendar/shabbat-service-4/
END:VEVENT
BEGIN:VEVENT
DTSTART;TZID=UTC:20201031T130000
DTEND;TZID=UTC:20201031T160000
DTSTAMP:20260424T004103
CREATED:20200920T072101Z
LAST-MODIFIED:20200920T072101Z
UID:1038-1604149200-1604160000@beitdavid.org
SUMMARY:Bible Study
DESCRIPTION:Join us for weekly Bible Study/Torah Club after morning services.  We are currently holding our Bible Study online.  Contact us for details.
URL:https://beitdavid.org/events-calendar/bible-study-5/
END:VEVENT
END:VCALENDAR