BEGIN:VCALENDAR
VERSION:2.0
PRODID:-//Beit David Messianic Fellowship - ECPv5.12.2//NONSGML v1.0//EN
CALSCALE:GREGORIAN
METHOD:PUBLISH
X-WR-CALNAME:Beit David Messianic Fellowship
X-ORIGINAL-URL:https://beitdavid.org
X-WR-CALDESC:Events for Beit David Messianic Fellowship
REFRESH-INTERVAL;VALUE=DURATION:PT1H
X-Robots-Tag:noindex
X-PUBLISHED-TTL:PT1H
BEGIN:VTIMEZONE
TZID:UTC
BEGIN:STANDARD
TZOFFSETFROM:+0000
TZOFFSETTO:+0000
TZNAME:UTC
DTSTART:20200101T000000
END:STANDARD
END:VTIMEZONE
BEGIN:VEVENT
DTSTART;TZID=UTC:20201107T100000
DTEND;TZID=UTC:20201107T120000
DTSTAMP:20260423T233052
CREATED:20201116T015635Z
LAST-MODIFIED:20201116T015635Z
UID:1041-1604743200-1604750400@beitdavid.org
SUMMARY:Shabbat Service
DESCRIPTION:Weekly worship service\, including prayer and liturgy.  We are currently holding our services online. Contact us for details.
URL:https://beitdavid.org/events-calendar/shabbat-service-5/
END:VEVENT
BEGIN:VEVENT
DTSTART;TZID=UTC:20201107T130000
DTEND;TZID=UTC:20201107T160000
DTSTAMP:20260423T233052
CREATED:20201116T023205Z
LAST-MODIFIED:20201116T024700Z
UID:1061-1604754000-1604764800@beitdavid.org
SUMMARY:Bible Study
DESCRIPTION:Join us for weekly Bible study/Torah Club after morning services. We are currently holding our Bible study online.  Contact us for details.
URL:https://beitdavid.org/events-calendar/bible-study-6/
END:VEVENT
BEGIN:VEVENT
DTSTART;TZID=UTC:20201114T100000
DTEND;TZID=UTC:20201114T120000
DTSTAMP:20260423T233052
CREATED:20201116T015837Z
LAST-MODIFIED:20201116T015837Z
UID:1043-1605348000-1605355200@beitdavid.org
SUMMARY:Shabbat Service
DESCRIPTION:Weekly worship service\, including prayer and liturgy.  We are currently holding our services online. Contact us for details.
URL:https://beitdavid.org/events-calendar/shabbat-service-6/
END:VEVENT
BEGIN:VEVENT
DTSTART;TZID=UTC:20201114T130000
DTEND;TZID=UTC:20201114T160000
DTSTAMP:20260423T233052
CREATED:20201116T023326Z
LAST-MODIFIED:20201116T025340Z
UID:1063-1605358800-1605369600@beitdavid.org
SUMMARY:Bible Study
DESCRIPTION:Join us for weekly Bible study/Torah Club after morning services. We are currently holding our Bible study online.  Contact us for details.
URL:https://beitdavid.org/events-calendar/bible-study-7/
END:VEVENT
BEGIN:VEVENT
DTSTART;TZID=UTC:20201121T100000
DTEND;TZID=UTC:20201121T120000
DTSTAMP:20260423T233052
CREATED:20201116T015952Z
LAST-MODIFIED:20201116T015952Z
UID:1045-1605952800-1605960000@beitdavid.org
SUMMARY:Shabbat Service
DESCRIPTION:Weekly worship service\, including prayer and liturgy.  We are currently holding our services online. Contact us for details.
URL:https://beitdavid.org/events-calendar/shabbat-service-7/
END:VEVENT
BEGIN:VEVENT
DTSTART;TZID=UTC:20201121T130000
DTEND;TZID=UTC:20201121T160000
DTSTAMP:20260423T233052
CREATED:20201116T023430Z
LAST-MODIFIED:20201116T025507Z
UID:1065-1605963600-1605974400@beitdavid.org
SUMMARY:Bible Study
DESCRIPTION:Join us for weekly Bible study/Torah Club after morning services. We are currently holding our Bible study online.  Contact us for details.
URL:https://beitdavid.org/events-calendar/bible-study-8/
END:VEVENT
BEGIN:VEVENT
DTSTART;VALUE=DATE:20201128
DTEND;VALUE=DATE:20201129
DTSTAMP:20260423T233052
CREATED:20201116T020838Z
LAST-MODIFIED:20201116T020838Z
UID:1047-1606521600-1606607999@beitdavid.org
SUMMARY:Thanksgiving Weekend - No Services
DESCRIPTION:We will not be holding our Shabbat services to allow our leaders time for rest and rejuvenation. Enjoy time with your families.
URL:https://beitdavid.org/events-calendar/thanksgiving-weekend-no-services/
END:VEVENT
END:VCALENDAR