BEGIN:VCALENDAR
VERSION:2.0
PRODID:-//Beit David Messianic Fellowship - ECPv5.12.2//NONSGML v1.0//EN
CALSCALE:GREGORIAN
METHOD:PUBLISH
X-WR-CALNAME:Beit David Messianic Fellowship
X-ORIGINAL-URL:https://beitdavid.org
X-WR-CALDESC:Events for Beit David Messianic Fellowship
REFRESH-INTERVAL;VALUE=DURATION:PT1H
X-Robots-Tag:noindex
X-PUBLISHED-TTL:PT1H
BEGIN:VTIMEZONE
TZID:UTC
BEGIN:STANDARD
TZOFFSETFROM:+0000
TZOFFSETTO:+0000
TZNAME:UTC
DTSTART:20210101T000000
END:STANDARD
END:VTIMEZONE
BEGIN:VEVENT
DTSTART;TZID=UTC:20210102T100000
DTEND;TZID=UTC:20210102T120000
DTSTAMP:20260423T205338
CREATED:20201116T022906Z
LAST-MODIFIED:20201116T022906Z
UID:1059-1609581600-1609588800@beitdavid.org
SUMMARY:Shabbat Service
DESCRIPTION:Weekly worship service\, including prayer and liturgy.  We are currently holding our services online. Contact us for details.
URL:https://beitdavid.org/events-calendar/shabbat-service-10/
END:VEVENT
BEGIN:VEVENT
DTSTART;TZID=UTC:20210102T130000
DTEND;TZID=UTC:20210102T160000
DTSTAMP:20260423T205338
CREATED:20201116T025755Z
LAST-MODIFIED:20201116T025755Z
UID:1074-1609592400-1609603200@beitdavid.org
SUMMARY:Bible Study
DESCRIPTION:Join us for weekly Bible study/Torah Club after morning services. We are currently holding our Bible study online.  Contact us for details.
URL:https://beitdavid.org/events-calendar/bible-study-11/
END:VEVENT
BEGIN:VEVENT
DTSTART;TZID=UTC:20210109T100000
DTEND;TZID=UTC:20210109T120000
DTSTAMP:20260423T205338
CREATED:20210318T234524Z
LAST-MODIFIED:20210318T234524Z
UID:1145-1610186400-1610193600@beitdavid.org
SUMMARY:Shabbat Service
DESCRIPTION:Weekly worship service\, including prayer and liturgy.  We are currently holding our services online. Contact us for details.
URL:https://beitdavid.org/events-calendar/shabbat-service-11/
END:VEVENT
BEGIN:VEVENT
DTSTART;TZID=UTC:20210109T130000
DTEND;TZID=UTC:20210109T160000
DTSTAMP:20260423T205338
CREATED:20210319T013032Z
LAST-MODIFIED:20210319T013032Z
UID:1182-1610197200-1610208000@beitdavid.org
SUMMARY:Bible Study
DESCRIPTION:Join us for weekly Bible study/Torah Club after morning services. We are currently holding our Bible study online.  Contact us for details.
URL:https://beitdavid.org/events-calendar/bible-study-12/
END:VEVENT
BEGIN:VEVENT
DTSTART;TZID=UTC:20210116T100000
DTEND;TZID=UTC:20210116T120000
DTSTAMP:20260423T205338
CREATED:20210318T234943Z
LAST-MODIFIED:20210318T234943Z
UID:1147-1610791200-1610798400@beitdavid.org
SUMMARY:Shabbat Service
DESCRIPTION:Weekly worship service\, including prayer and liturgy.  We are currently holding our services online. Contact us for details.
URL:https://beitdavid.org/events-calendar/shabbat-service-12/
END:VEVENT
BEGIN:VEVENT
DTSTART;TZID=UTC:20210116T130000
DTEND;TZID=UTC:20210116T160000
DTSTAMP:20260423T205338
CREATED:20210319T013223Z
LAST-MODIFIED:20210319T013223Z
UID:1184-1610802000-1610812800@beitdavid.org
SUMMARY:Bible Study
DESCRIPTION:Join us for weekly Bible study/Torah Club after morning services. We are currently holding our Bible study online.  Contact us for details.
URL:https://beitdavid.org/events-calendar/bible-study-13/
END:VEVENT
BEGIN:VEVENT
DTSTART;TZID=UTC:20210123T100000
DTEND;TZID=UTC:20210123T150000
DTSTAMP:20260423T205338
CREATED:20210318T235406Z
LAST-MODIFIED:20210319T004839Z
UID:1149-1611396000-1611414000@beitdavid.org
SUMMARY:Shabbat Service and Tu B'Shevat Celebration
DESCRIPTION:Weekly worship service\, including prayer and liturgy.  We are currently holding our services online. Contact us for details.
URL:https://beitdavid.org/events-calendar/shabbat-service-and-tu-bshevat-celebration/
END:VEVENT
BEGIN:VEVENT
DTSTART;TZID=UTC:20210130T100000
DTEND;TZID=UTC:20210130T120000
DTSTAMP:20260423T205338
CREATED:20210319T005045Z
LAST-MODIFIED:20210319T005045Z
UID:1151-1612000800-1612008000@beitdavid.org
SUMMARY:Shabbat Service
DESCRIPTION:Weekly worship service\, including prayer and liturgy.  We are currently holding our services online. Contact us for details.
URL:https://beitdavid.org/events-calendar/shabbat-service-13/
END:VEVENT
BEGIN:VEVENT
DTSTART;TZID=UTC:20210130T130000
DTEND;TZID=UTC:20210130T160000
DTSTAMP:20260423T205338
CREATED:20210319T013322Z
LAST-MODIFIED:20210319T013322Z
UID:1186-1612011600-1612022400@beitdavid.org
SUMMARY:Bible Study
DESCRIPTION:Join us for weekly Bible study/Torah Club after morning services. We are currently holding our Bible study online.  Contact us for details.
URL:https://beitdavid.org/events-calendar/bible-study-14/
END:VEVENT
END:VCALENDAR