BEGIN:VCALENDAR
VERSION:2.0
PRODID:-//Beit David Messianic Fellowship - ECPv5.12.2//NONSGML v1.0//EN
CALSCALE:GREGORIAN
METHOD:PUBLISH
X-WR-CALNAME:Beit David Messianic Fellowship
X-ORIGINAL-URL:https://beitdavid.org
X-WR-CALDESC:Events for Beit David Messianic Fellowship
REFRESH-INTERVAL;VALUE=DURATION:PT1H
X-Robots-Tag:noindex
X-PUBLISHED-TTL:PT1H
BEGIN:VTIMEZONE
TZID:UTC
BEGIN:STANDARD
TZOFFSETFROM:+0000
TZOFFSETTO:+0000
TZNAME:UTC
DTSTART:20210101T000000
END:STANDARD
END:VTIMEZONE
BEGIN:VEVENT
DTSTART;TZID=UTC:20210206T100000
DTEND;TZID=UTC:20210206T120000
DTSTAMP:20260423T191930
CREATED:20210319T005259Z
LAST-MODIFIED:20210319T005259Z
UID:1153-1612605600-1612612800@beitdavid.org
SUMMARY:Shabbat Service
DESCRIPTION:Weekly worship service\, including prayer and liturgy.  We are currently holding our services online. Contact us for details.
URL:https://beitdavid.org/events-calendar/shabbat-service-14/
END:VEVENT
BEGIN:VEVENT
DTSTART;TZID=UTC:20210206T130000
DTEND;TZID=UTC:20210206T160000
DTSTAMP:20260423T191930
CREATED:20210319T013445Z
LAST-MODIFIED:20210319T013445Z
UID:1188-1612616400-1612627200@beitdavid.org
SUMMARY:Bible Study
DESCRIPTION:Join us for weekly Bible study/Torah Club after morning services. We are currently holding our Bible study online.  Contact us for details.
URL:https://beitdavid.org/events-calendar/bible-study-15/
END:VEVENT
BEGIN:VEVENT
DTSTART;TZID=UTC:20210213T100000
DTEND;TZID=UTC:20210213T120000
DTSTAMP:20260423T191930
CREATED:20210319T005922Z
LAST-MODIFIED:20210319T010015Z
UID:1155-1613210400-1613217600@beitdavid.org
SUMMARY:Shabbat Service
DESCRIPTION:Weekly worship service\, including prayer and liturgy.  We are currently holding our services online. Contact us for details.
URL:https://beitdavid.org/events-calendar/shabbat-shalom/
END:VEVENT
BEGIN:VEVENT
DTSTART;TZID=UTC:20210213T130000
DTEND;TZID=UTC:20210213T160000
DTSTAMP:20260423T191930
CREATED:20210319T013640Z
LAST-MODIFIED:20210319T013640Z
UID:1190-1613221200-1613232000@beitdavid.org
SUMMARY:Bible Study
DESCRIPTION:Join us for weekly Bible study/Torah Club after morning services. We are currently holding our Bible study online.  Contact us for details.
URL:https://beitdavid.org/events-calendar/bible-study-16/
END:VEVENT
BEGIN:VEVENT
DTSTART;TZID=UTC:20210220T100000
DTEND;TZID=UTC:20210220T120000
DTSTAMP:20260423T191930
CREATED:20210319T010631Z
LAST-MODIFIED:20210319T010631Z
UID:1158-1613815200-1613822400@beitdavid.org
SUMMARY:Shabbat Service
DESCRIPTION:Weekly worship service\, including prayer and liturgy.  We are currently holding our services online. Contact us for details.
URL:https://beitdavid.org/events-calendar/shabbat-service-15/
END:VEVENT
BEGIN:VEVENT
DTSTART;TZID=UTC:20210220T130000
DTEND;TZID=UTC:20210220T160000
DTSTAMP:20260423T191930
CREATED:20210319T013804Z
LAST-MODIFIED:20210319T013804Z
UID:1192-1613826000-1613836800@beitdavid.org
SUMMARY:Bible Study
DESCRIPTION:Join us for weekly Bible study/Torah Club after morning services. We are currently holding our Bible study online.  Contact us for details.
URL:https://beitdavid.org/events-calendar/bible-study-17/
END:VEVENT
BEGIN:VEVENT
DTSTART;TZID=UTC:20210227T100000
DTEND;TZID=UTC:20210227T150000
DTSTAMP:20260423T191930
CREATED:20210319T010843Z
LAST-MODIFIED:20210319T010843Z
UID:1160-1614420000-1614438000@beitdavid.org
SUMMARY:Shabbat Service and Purim Celebration
DESCRIPTION:Weekly worship service\, including prayer and liturgy.  We are currently holding our services online. Contact us for details.
URL:https://beitdavid.org/events-calendar/shabbat-service-and-purim-celebration/
END:VEVENT
END:VCALENDAR