BEGIN:VCALENDAR
VERSION:2.0
PRODID:-//Beit David Messianic Fellowship - ECPv5.12.2//NONSGML v1.0//EN
CALSCALE:GREGORIAN
METHOD:PUBLISH
X-WR-CALNAME:Beit David Messianic Fellowship
X-ORIGINAL-URL:https://beitdavid.org
X-WR-CALDESC:Events for Beit David Messianic Fellowship
REFRESH-INTERVAL;VALUE=DURATION:PT1H
X-Robots-Tag:noindex
X-PUBLISHED-TTL:PT1H
BEGIN:VTIMEZONE
TZID:UTC
BEGIN:STANDARD
TZOFFSETFROM:+0000
TZOFFSETTO:+0000
TZNAME:UTC
DTSTART:20210101T000000
END:STANDARD
END:VTIMEZONE
BEGIN:VEVENT
DTSTART;TZID=UTC:20210306T100000
DTEND;TZID=UTC:20210306T120000
DTSTAMP:20260423T180523
CREATED:20210319T010955Z
LAST-MODIFIED:20210319T010955Z
UID:1162-1615024800-1615032000@beitdavid.org
SUMMARY:Shabbat Service
DESCRIPTION:Weekly worship service\, including prayer and liturgy.  We are currently holding our services online. Contact us for details.
URL:https://beitdavid.org/events-calendar/shabbat-service-16/
END:VEVENT
BEGIN:VEVENT
DTSTART;TZID=UTC:20210306T130000
DTEND;TZID=UTC:20210306T160000
DTSTAMP:20260423T180523
CREATED:20210319T014052Z
LAST-MODIFIED:20210319T014052Z
UID:1195-1615035600-1615046400@beitdavid.org
SUMMARY:Bible Study
DESCRIPTION:Join us for weekly Bible study/Torah Club after morning services. We are currently holding our Bible study online.  Contact us for details.
URL:https://beitdavid.org/events-calendar/bible-study-18/
END:VEVENT
BEGIN:VEVENT
DTSTART;TZID=UTC:20210313T100000
DTEND;TZID=UTC:20210313T120000
DTSTAMP:20260423T180523
CREATED:20210319T011231Z
LAST-MODIFIED:20210319T011231Z
UID:1164-1615629600-1615636800@beitdavid.org
SUMMARY:Shabbat Service
DESCRIPTION:Weekly worship service\, including prayer and liturgy.  We are currently holding our services online. Contact us for details.
URL:https://beitdavid.org/events-calendar/shabbat-service-17/
END:VEVENT
BEGIN:VEVENT
DTSTART;TZID=UTC:20210313T130000
DTEND;TZID=UTC:20210313T160000
DTSTAMP:20260423T180523
CREATED:20210319T014205Z
LAST-MODIFIED:20210319T014205Z
UID:1197-1615640400-1615651200@beitdavid.org
SUMMARY:Bible Study
DESCRIPTION:Join us for weekly Bible study/Torah Club after morning services. We are currently holding our Bible study online.  Contact us for details.
URL:https://beitdavid.org/events-calendar/bible-study-19/
END:VEVENT
BEGIN:VEVENT
DTSTART;TZID=UTC:20210320T100000
DTEND;TZID=UTC:20210320T120000
DTSTAMP:20260423T180523
CREATED:20210319T011354Z
LAST-MODIFIED:20210319T011354Z
UID:1166-1616234400-1616241600@beitdavid.org
SUMMARY:Shabbat Service
DESCRIPTION:Weekly worship service\, including prayer and liturgy.  We are currently holding our services online. Contact us for details.
URL:https://beitdavid.org/events-calendar/shabbat-service-18/
END:VEVENT
BEGIN:VEVENT
DTSTART;TZID=UTC:20210320T130000
DTEND;TZID=UTC:20210320T160000
DTSTAMP:20260423T180523
CREATED:20210319T014416Z
LAST-MODIFIED:20210319T014416Z
UID:1199-1616245200-1616256000@beitdavid.org
SUMMARY:Bible Study
DESCRIPTION:Join us for weekly Bible study/Torah Club after morning services. We are currently holding our Bible study online.  Contact us for details.
URL:https://beitdavid.org/events-calendar/bible-study-20/
END:VEVENT
BEGIN:VEVENT
DTSTART;TZID=UTC:20210327T110000
DTEND;TZID=UTC:20210327T150000
DTSTAMP:20260423T180523
CREATED:20210319T011724Z
LAST-MODIFIED:20210319T011724Z
UID:1168-1616842800-1616857200@beitdavid.org
SUMMARY:Passover Seder
DESCRIPTION:We will be celebrating our Passover Seder together in person\, and also stream it online. Contact us for details.
URL:https://beitdavid.org/events-calendar/passover-seder-2/
END:VEVENT
END:VCALENDAR