BEGIN:VCALENDAR
VERSION:2.0
PRODID:-//Beit David Messianic Fellowship - ECPv5.12.2//NONSGML v1.0//EN
CALSCALE:GREGORIAN
METHOD:PUBLISH
X-WR-CALNAME:Beit David Messianic Fellowship
X-ORIGINAL-URL:https://beitdavid.org
X-WR-CALDESC:Events for Beit David Messianic Fellowship
REFRESH-INTERVAL;VALUE=DURATION:PT1H
X-Robots-Tag:noindex
X-PUBLISHED-TTL:PT1H
BEGIN:VTIMEZONE
TZID:UTC
BEGIN:STANDARD
TZOFFSETFROM:+0000
TZOFFSETTO:+0000
TZNAME:UTC
DTSTART:20210101T000000
END:STANDARD
END:VTIMEZONE
BEGIN:VEVENT
DTSTART;VALUE=DATE:20210703
DTEND;VALUE=DATE:20210704
DTSTAMP:20260423T125610
CREATED:20210519T051416Z
LAST-MODIFIED:20210519T051416Z
UID:1251-1625270400-1625356799@beitdavid.org
SUMMARY:Holiday Weekend - No Shabbat Service
DESCRIPTION:We will not be holding our Shabbat services.  We are taking this time to allow our leaders an opportunity for rest and rejuvenation.
URL:https://beitdavid.org/events-calendar/holiday-weekend-no-shabbat-service/
END:VEVENT
BEGIN:VEVENT
DTSTART;TZID=UTC:20210710T100000
DTEND;TZID=UTC:20210710T120000
DTSTAMP:20260423T125610
CREATED:20210901T202521Z
LAST-MODIFIED:20210901T202836Z
UID:1259-1625911200-1625918400@beitdavid.org
SUMMARY:Shabbat Service
DESCRIPTION:Weekly worship service\, including prayer and liturgy.  This week is our Prayer and Healing service and we will meet in person\, and also share the service online via Zoom. Contact us for details.
URL:https://beitdavid.org/events-calendar/shabbat-service-30/
END:VEVENT
BEGIN:VEVENT
DTSTART;TZID=UTC:20210710T130000
DTEND;TZID=UTC:20210710T160000
DTSTAMP:20260423T125610
CREATED:20210901T210423Z
LAST-MODIFIED:20210901T210423Z
UID:1293-1625922000-1625932800@beitdavid.org
SUMMARY:Bible Study
DESCRIPTION:Join us for weekly Bible study/Torah Club after morning services. We meet after our oneg meal and also share the discussion on Zoom.  Contact us for details.
URL:https://beitdavid.org/events-calendar/bible-study-32/
END:VEVENT
BEGIN:VEVENT
DTSTART;TZID=UTC:20210717T100000
DTEND;TZID=UTC:20210717T120000
DTSTAMP:20260423T125610
CREATED:20210901T203028Z
LAST-MODIFIED:20210901T203028Z
UID:1262-1626516000-1626523200@beitdavid.org
SUMMARY:Shabbat Service
DESCRIPTION:Weekly worship service\, including prayer and liturgy.  This week is our Messianic Perspectives service and we will meet in person\, and also share the service online via Zoom. Contact us for details.
URL:https://beitdavid.org/events-calendar/shabbat-service-31/
END:VEVENT
BEGIN:VEVENT
DTSTART;TZID=UTC:20210717T130000
DTEND;TZID=UTC:20210717T160000
DTSTAMP:20260423T125610
CREATED:20210901T210524Z
LAST-MODIFIED:20210901T210524Z
UID:1295-1626526800-1626537600@beitdavid.org
SUMMARY:Bible Study
DESCRIPTION:Join us for weekly Bible study/Torah Club after morning services. We meet after our oneg meal and also share the discussion on Zoom.  Contact us for details.
URL:https://beitdavid.org/events-calendar/bible-study-33/
END:VEVENT
BEGIN:VEVENT
DTSTART;TZID=UTC:20210724T100000
DTEND;TZID=UTC:20210724T120000
DTSTAMP:20260423T125610
CREATED:20210901T203155Z
LAST-MODIFIED:20210901T203155Z
UID:1264-1627120800-1627128000@beitdavid.org
SUMMARY:Shabbat Service
DESCRIPTION:Weekly worship service\, including prayer and liturgy.  This week is our Family service and we will meet in person\, and also share the service online via Zoom. Contact us for details.
URL:https://beitdavid.org/events-calendar/shabbat-service-32/
END:VEVENT
BEGIN:VEVENT
DTSTART;TZID=UTC:20210724T130000
DTEND;TZID=UTC:20210724T160000
DTSTAMP:20260423T125610
CREATED:20210901T210641Z
LAST-MODIFIED:20210901T210641Z
UID:1297-1627131600-1627142400@beitdavid.org
SUMMARY:Bible Study
DESCRIPTION:Join us for weekly Bible study/Torah Club after morning services. We meet after our oneg meal and also share the discussion on Zoom.  Contact us for details.
URL:https://beitdavid.org/events-calendar/bible-study-34/
END:VEVENT
BEGIN:VEVENT
DTSTART;TZID=UTC:20210731T100000
DTEND;TZID=UTC:20210731T120000
DTSTAMP:20260423T125610
CREATED:20210901T203400Z
LAST-MODIFIED:20210901T203400Z
UID:1266-1627725600-1627732800@beitdavid.org
SUMMARY:Shabbat Service
DESCRIPTION:Weekly worship service\, including prayer and liturgy.  This week is our Worship service and we will meet in person\, and also share the service online via Zoom. Contact us for details.
URL:https://beitdavid.org/events-calendar/shabbat-service-33/
END:VEVENT
BEGIN:VEVENT
DTSTART;TZID=UTC:20210731T130000
DTEND;TZID=UTC:20210731T160000
DTSTAMP:20260423T125610
CREATED:20210901T210756Z
LAST-MODIFIED:20210901T210756Z
UID:1299-1627736400-1627747200@beitdavid.org
SUMMARY:Bible Study
DESCRIPTION:Join us for weekly Bible study/Torah Club after morning services. We meet after our oneg meal and also share the discussion on Zoom.  Contact us for details.
URL:https://beitdavid.org/events-calendar/bible-study-35/
END:VEVENT
END:VCALENDAR