BEGIN:VCALENDAR
VERSION:2.0
PRODID:-//Beit David Messianic Fellowship - ECPv5.12.2//NONSGML v1.0//EN
CALSCALE:GREGORIAN
METHOD:PUBLISH
X-WR-CALNAME:Beit David Messianic Fellowship
X-ORIGINAL-URL:https://beitdavid.org
X-WR-CALDESC:Events for Beit David Messianic Fellowship
REFRESH-INTERVAL;VALUE=DURATION:PT1H
X-Robots-Tag:noindex
X-PUBLISHED-TTL:PT1H
BEGIN:VTIMEZONE
TZID:UTC
BEGIN:STANDARD
TZOFFSETFROM:+0000
TZOFFSETTO:+0000
TZNAME:UTC
DTSTART:20210101T000000
END:STANDARD
END:VTIMEZONE
BEGIN:VEVENT
DTSTART;TZID=UTC:20210807T100000
DTEND;TZID=UTC:20210807T120000
DTSTAMP:20260423T113435
CREATED:20210901T203600Z
LAST-MODIFIED:20210901T203600Z
UID:1269-1628330400-1628337600@beitdavid.org
SUMMARY:Shabbat Service
DESCRIPTION:Weekly worship service\, including prayer and liturgy.  This week is our Torah service and we will meet in person\, and also share the service online via Zoom. Contact us for details.
URL:https://beitdavid.org/events-calendar/shabbat-service-34/
END:VEVENT
BEGIN:VEVENT
DTSTART;TZID=UTC:20210807T130000
DTEND;TZID=UTC:20210807T160000
DTSTAMP:20260423T113435
CREATED:20210901T211101Z
LAST-MODIFIED:20210901T211101Z
UID:1303-1628341200-1628352000@beitdavid.org
SUMMARY:Bible Study
DESCRIPTION:Join us for weekly Bible study/Torah Club after morning services. We meet after our oneg meal and also share the discussion on Zoom.  Contact us for details.
URL:https://beitdavid.org/events-calendar/bible-study-36/
END:VEVENT
BEGIN:VEVENT
DTSTART;TZID=UTC:20210814T100000
DTEND;TZID=UTC:20210814T120000
DTSTAMP:20260423T113435
CREATED:20210901T203729Z
LAST-MODIFIED:20210901T203729Z
UID:1271-1628935200-1628942400@beitdavid.org
SUMMARY:Shabbat Service
DESCRIPTION:Weekly worship service\, including prayer and liturgy.  This week is our Prayer and Healing service and we will meet in person\, and also share the service online via Zoom. Contact us for details.
URL:https://beitdavid.org/events-calendar/shabbat-service-35/
END:VEVENT
BEGIN:VEVENT
DTSTART;TZID=UTC:20210814T130000
DTEND;TZID=UTC:20210814T160000
DTSTAMP:20260423T113435
CREATED:20210901T211236Z
LAST-MODIFIED:20210901T211236Z
UID:1305-1628946000-1628956800@beitdavid.org
SUMMARY:Bible Study
DESCRIPTION:Join us for weekly Bible study/Torah Club after morning services. We meet after our oneg meal and also share the discussion on Zoom.  Contact us for details.
URL:https://beitdavid.org/events-calendar/bible-study-37/
END:VEVENT
BEGIN:VEVENT
DTSTART;TZID=UTC:20210821T100000
DTEND;TZID=UTC:20210821T120000
DTSTAMP:20260423T113435
CREATED:20210901T203934Z
LAST-MODIFIED:20210901T203934Z
UID:1273-1629540000-1629547200@beitdavid.org
SUMMARY:Shabbat Service
DESCRIPTION:Weekly worship service\, including prayer and liturgy.  This week is our Messianic Perspectives service and we will meet in person\, and also share the service online via Zoom. Contact us for details.
URL:https://beitdavid.org/events-calendar/shabbat-service-36/
END:VEVENT
BEGIN:VEVENT
DTSTART;TZID=UTC:20210821T130000
DTEND;TZID=UTC:20210821T160000
DTSTAMP:20260423T113435
CREATED:20210901T211347Z
LAST-MODIFIED:20210901T211347Z
UID:1307-1629550800-1629561600@beitdavid.org
SUMMARY:Bible Study
DESCRIPTION:Join us for weekly Bible study/Torah Club after morning services. We meet after our oneg meal and also share the discussion on Zoom.  Contact us for details.
URL:https://beitdavid.org/events-calendar/bible-study-38/
END:VEVENT
BEGIN:VEVENT
DTSTART;TZID=UTC:20210828T100000
DTEND;TZID=UTC:20210828T120000
DTSTAMP:20260423T113435
CREATED:20210901T204102Z
LAST-MODIFIED:20210901T204102Z
UID:1275-1630144800-1630152000@beitdavid.org
SUMMARY:Shabbat Service
DESCRIPTION:Weekly worship service\, including prayer and liturgy.  This week is our Family service and we will meet in person\, and also share the service online via Zoom. Contact us for details.
URL:https://beitdavid.org/events-calendar/shabbat-service-37/
END:VEVENT
BEGIN:VEVENT
DTSTART;TZID=UTC:20210828T130000
DTEND;TZID=UTC:20210828T160000
DTSTAMP:20260423T113435
CREATED:20210901T211505Z
LAST-MODIFIED:20210901T211505Z
UID:1309-1630155600-1630166400@beitdavid.org
SUMMARY:Bible Study
DESCRIPTION:Join us for weekly Bible study/Torah Club after morning services. We meet after our oneg meal and also share the discussion on Zoom.  Contact us for details.
URL:https://beitdavid.org/events-calendar/bible-study-39/
END:VEVENT
END:VCALENDAR