BEGIN:VCALENDAR
VERSION:2.0
PRODID:-//Beit David Messianic Fellowship - ECPv5.12.2//NONSGML v1.0//EN
CALSCALE:GREGORIAN
METHOD:PUBLISH
X-WR-CALNAME:Beit David Messianic Fellowship
X-ORIGINAL-URL:https://beitdavid.org
X-WR-CALDESC:Events for Beit David Messianic Fellowship
REFRESH-INTERVAL;VALUE=DURATION:PT1H
X-Robots-Tag:noindex
X-PUBLISHED-TTL:PT1H
BEGIN:VTIMEZONE
TZID:UTC
BEGIN:STANDARD
TZOFFSETFROM:+0000
TZOFFSETTO:+0000
TZNAME:UTC
DTSTART:20210101T000000
END:STANDARD
END:VTIMEZONE
BEGIN:VEVENT
DTSTART;VALUE=DATE:20210904
DTEND;VALUE=DATE:20210905
DTSTAMP:20260423T100629
CREATED:20210901T202218Z
LAST-MODIFIED:20210901T202218Z
UID:1257-1630713600-1630799999@beitdavid.org
SUMMARY:Holiday Weekend - No Shabbat Service
DESCRIPTION:We will not be holding our Shabbat services.  We are taking this time to allow our leaders an opportunity for rest and rejuvenation.
URL:https://beitdavid.org/events-calendar/holiday-weekend-no-shabbat-service-2/
END:VEVENT
BEGIN:VEVENT
DTSTART;TZID=UTC:20210906T190000
DTEND;TZID=UTC:20210906T210000
DTSTAMP:20260423T100629
CREATED:20210901T214852Z
LAST-MODIFIED:20210901T214852Z
UID:1330-1630954800-1630962000@beitdavid.org
SUMMARY:Erev Rosh Hashanah Service
DESCRIPTION:Join us as we welcome the new year with our celebration of the Feast of Trumpets! We will meet in person\, and also share the service online via Zoom. Contact us for details.
URL:https://beitdavid.org/events-calendar/erev-rosh-hashanah-service/
END:VEVENT
BEGIN:VEVENT
DTSTART;TZID=UTC:20210911T100000
DTEND;TZID=UTC:20210911T120000
DTSTAMP:20260423T100629
CREATED:20210901T204240Z
LAST-MODIFIED:20210901T204240Z
UID:1277-1631354400-1631361600@beitdavid.org
SUMMARY:Shabbat Service
DESCRIPTION:Weekly worship service\, including prayer and liturgy.  This week is our Prayer and Healing service and we will meet in person\, and also share the service online via Zoom. Contact us for details.
URL:https://beitdavid.org/events-calendar/shabbat-service-38/
END:VEVENT
BEGIN:VEVENT
DTSTART;TZID=UTC:20210911T130000
DTEND;TZID=UTC:20210911T160000
DTSTAMP:20260423T100629
CREATED:20210901T211628Z
LAST-MODIFIED:20210901T211628Z
UID:1311-1631365200-1631376000@beitdavid.org
SUMMARY:Bible Study
DESCRIPTION:Join us for weekly Bible study/Torah Club after morning services. We meet after our oneg meal and also share the discussion on Zoom.  Contact us for details.
URL:https://beitdavid.org/events-calendar/bible-study-40/
END:VEVENT
BEGIN:VEVENT
DTSTART;TZID=UTC:20210915T190000
DTEND;TZID=UTC:20210915T210000
DTSTAMP:20260423T100629
CREATED:20210901T215227Z
LAST-MODIFIED:20210901T220305Z
UID:1333-1631732400-1631739600@beitdavid.org
SUMMARY:Kol Nidre Service
DESCRIPTION:Join us for the opening of the Day of Atonement\, Yom Kippur.  We will meet in person\, and also share the service online via Zoom. Contact us for details.
URL:https://beitdavid.org/events-calendar/kol-nidre-service-2/
END:VEVENT
BEGIN:VEVENT
DTSTART;TZID=UTC:20210916T170000
DTEND;TZID=UTC:20210916T190000
DTSTAMP:20260423T100629
CREATED:20210901T215422Z
LAST-MODIFIED:20210901T220002Z
UID:1335-1631811600-1631818800@beitdavid.org
SUMMARY:Yom Kippur Service
DESCRIPTION:Join us as we conclude Yom Kippur\, the Day of Atonement.  We will meet in person\, and also share the service online via Zoom. Contact us for details.
URL:https://beitdavid.org/events-calendar/yom-kippur-service-2/
END:VEVENT
BEGIN:VEVENT
DTSTART;TZID=UTC:20210916T190000
DTEND;TZID=UTC:20210916T210000
DTSTAMP:20260423T100629
CREATED:20210901T215702Z
LAST-MODIFIED:20210901T215702Z
UID:1338-1631818800-1631826000@beitdavid.org
SUMMARY:Yom Kippur Break-the-Fast Meal
DESCRIPTION:Join us after the Yom Kippur service as we share a potluck meal to break the fast together.  Feel free to bring something to share.
URL:https://beitdavid.org/events-calendar/yom-kippur-break-the-fast-meal/
END:VEVENT
BEGIN:VEVENT
DTSTART;TZID=UTC:20210918T100000
DTEND;TZID=UTC:20210918T120000
DTSTAMP:20260423T100629
CREATED:20210901T204422Z
LAST-MODIFIED:20210901T204422Z
UID:1279-1631959200-1631966400@beitdavid.org
SUMMARY:Shabbat Service
DESCRIPTION:Weekly worship service\, including prayer and liturgy.  This week is our Messianic Perspectives service and we will meet in person\, and also share the service online via Zoom. Contact us for details.
URL:https://beitdavid.org/events-calendar/shabbat-service-39/
END:VEVENT
BEGIN:VEVENT
DTSTART;TZID=UTC:20210918T130000
DTEND;TZID=UTC:20210918T160000
DTSTAMP:20260423T100629
CREATED:20210901T211753Z
LAST-MODIFIED:20210901T211753Z
UID:1313-1631970000-1631980800@beitdavid.org
SUMMARY:Bible Study
DESCRIPTION:Join us for weekly Bible study/Torah Club after morning services. We meet after our oneg meal and also share the discussion on Zoom.  Contact us for details.
URL:https://beitdavid.org/events-calendar/bible-study-41/
END:VEVENT
BEGIN:VEVENT
DTSTART;TZID=UTC:20210925T100000
DTEND;TZID=UTC:20210925T120000
DTSTAMP:20260423T100629
CREATED:20210901T204821Z
LAST-MODIFIED:20210901T204821Z
UID:1281-1632564000-1632571200@beitdavid.org
SUMMARY:Shabbat Service - Sukkot Celebration
DESCRIPTION:Come celebrate the Feast of Tabernacles with us and wave the lulav and etrog to thank God for His blessings! \nWeekly worship service\, including prayer and liturgy.  This week is our Sukkot celebration and we will meet in person\, and also share the service online via Zoom. Contact us for details.
URL:https://beitdavid.org/events-calendar/shabbat-service-sukkot-celebration/
END:VEVENT
BEGIN:VEVENT
DTSTART;TZID=UTC:20210925T130000
DTEND;TZID=UTC:20210925T160000
DTSTAMP:20260423T100629
CREATED:20210901T211948Z
LAST-MODIFIED:20210901T211948Z
UID:1315-1632574800-1632585600@beitdavid.org
SUMMARY:Bible Study
DESCRIPTION:We’ll continue the celebration of Sukkot through our Bible study time. \nJoin us for weekly Bible study/Torah Club after morning services. We meet after our oneg meal and also share the discussion on Zoom.  Contact us for details.
URL:https://beitdavid.org/events-calendar/bible-study-42/
END:VEVENT
END:VCALENDAR