BEGIN:VCALENDAR
VERSION:2.0
PRODID:-//Beit David Messianic Fellowship - ECPv5.12.2//NONSGML v1.0//EN
CALSCALE:GREGORIAN
METHOD:PUBLISH
X-WR-CALNAME:Beit David Messianic Fellowship
X-ORIGINAL-URL:https://beitdavid.org
X-WR-CALDESC:Events for Beit David Messianic Fellowship
REFRESH-INTERVAL;VALUE=DURATION:PT1H
X-Robots-Tag:noindex
X-PUBLISHED-TTL:PT1H
BEGIN:VTIMEZONE
TZID:UTC
BEGIN:STANDARD
TZOFFSETFROM:+0000
TZOFFSETTO:+0000
TZNAME:UTC
DTSTART:20220101T000000
END:STANDARD
END:VTIMEZONE
BEGIN:VEVENT
DTSTART;TZID=UTC:20220205T100000
DTEND;TZID=UTC:20220205T120000
DTSTAMP:20260423T031813
CREATED:20220219T232124Z
LAST-MODIFIED:20220219T232124Z
UID:1406-1644055200-1644062400@beitdavid.org
SUMMARY:Shabbat Service
DESCRIPTION:Weekly worship service\, including prayer and liturgy.  This week is our Torah service and we will meet in person\, and also share the service online via Zoom. Contact us for details.
URL:https://beitdavid.org/events-calendar/shabbat-service-55/
END:VEVENT
BEGIN:VEVENT
DTSTART;TZID=UTC:20220205T100000
DTEND;TZID=UTC:20220205T120000
DTSTAMP:20260423T031813
CREATED:20220219T232404Z
LAST-MODIFIED:20220219T232404Z
UID:1408-1644055200-1644062400@beitdavid.org
SUMMARY:Bat Mitzvah Celebration
DESCRIPTION:This week we will celebrate the Bat Mitzvah of Alicia Cooke.
URL:https://beitdavid.org/events-calendar/bat-mitzvah-celebration/
END:VEVENT
BEGIN:VEVENT
DTSTART;TZID=UTC:20220205T130000
DTEND;TZID=UTC:20220205T150000
DTSTAMP:20260423T031813
CREATED:20220219T235428Z
LAST-MODIFIED:20220219T235428Z
UID:1432-1644066000-1644073200@beitdavid.org
SUMMARY:Bible Study
DESCRIPTION:Join us for weekly Bible study/Torah Club after morning services. We meet after our oneg meal and also share the discussion on Zoom.  Contact us for details.
URL:https://beitdavid.org/events-calendar/bible-study-55/
END:VEVENT
BEGIN:VEVENT
DTSTART;TZID=UTC:20220212T100000
DTEND;TZID=UTC:20220212T120000
DTSTAMP:20260423T031813
CREATED:20220212T232818Z
LAST-MODIFIED:20220219T233127Z
UID:1413-1644660000-1644667200@beitdavid.org
SUMMARY:Shabbat Service
DESCRIPTION:Weekly worship service\, including prayer and liturgy.  This week is our Prayer and Healing service and we will meet in person\, and also share the service online via Zoom. Contact us for details.
URL:https://beitdavid.org/events-calendar/shabbat-service-56/
END:VEVENT
BEGIN:VEVENT
DTSTART;TZID=UTC:20220212T130000
DTEND;TZID=UTC:20220212T150000
DTSTAMP:20260423T031813
CREATED:20220219T235536Z
LAST-MODIFIED:20220219T235536Z
UID:1434-1644670800-1644678000@beitdavid.org
SUMMARY:Bible Study
DESCRIPTION:Join us for weekly Bible study/Torah Club after morning services. We meet after our oneg meal and also share the discussion on Zoom.  Contact us for details.
URL:https://beitdavid.org/events-calendar/bible-study-56/
END:VEVENT
BEGIN:VEVENT
DTSTART;TZID=UTC:20220219T100000
DTEND;TZID=UTC:20220219T120000
DTSTAMP:20260423T031813
CREATED:20220219T233248Z
LAST-MODIFIED:20220219T233248Z
UID:1417-1645264800-1645272000@beitdavid.org
SUMMARY:Shabbat Service
DESCRIPTION:Weekly worship service\, including prayer and liturgy.  This week is our Messianic Perspectives service and we will meet in person\, and also share the service online via Zoom. Contact us for details.
URL:https://beitdavid.org/events-calendar/shabbat-service-57/
END:VEVENT
BEGIN:VEVENT
DTSTART;TZID=UTC:20220219T130000
DTEND;TZID=UTC:20220219T150000
DTSTAMP:20260423T031813
CREATED:20220219T235634Z
LAST-MODIFIED:20220219T235634Z
UID:1436-1645275600-1645282800@beitdavid.org
SUMMARY:Bible Study
DESCRIPTION:Join us for weekly Bible study/Torah Club after morning services. We meet after our oneg meal and also share the discussion on Zoom.  Contact us for details.
URL:https://beitdavid.org/events-calendar/bible-study-57/
END:VEVENT
BEGIN:VEVENT
DTSTART;TZID=UTC:20220226T100000
DTEND;TZID=UTC:20220226T120000
DTSTAMP:20260423T031813
CREATED:20220219T233412Z
LAST-MODIFIED:20220219T233412Z
UID:1419-1645869600-1645876800@beitdavid.org
SUMMARY:Shabbat Service
DESCRIPTION:Weekly worship service\, including prayer and liturgy.  This week is our Family service and we will meet in person\, and also share the service online via Zoom. Contact us for details.
URL:https://beitdavid.org/events-calendar/shabbat-service-58/
END:VEVENT
BEGIN:VEVENT
DTSTART;TZID=UTC:20220226T130000
DTEND;TZID=UTC:20220226T150000
DTSTAMP:20260423T031813
CREATED:20220219T235746Z
LAST-MODIFIED:20220219T235746Z
UID:1438-1645880400-1645887600@beitdavid.org
SUMMARY:Bible Study
DESCRIPTION:Join us for weekly Bible study/Torah Club after morning services. We meet after our oneg meal and also share the discussion on Zoom.  Contact us for details.
URL:https://beitdavid.org/events-calendar/bible-study-58/
END:VEVENT
END:VCALENDAR