BEGIN:VCALENDAR
VERSION:2.0
PRODID:-//Beit David Messianic Fellowship - ECPv5.12.2//NONSGML v1.0//EN
CALSCALE:GREGORIAN
METHOD:PUBLISH
X-WR-CALNAME:Beit David Messianic Fellowship
X-ORIGINAL-URL:https://beitdavid.org
X-WR-CALDESC:Events for Beit David Messianic Fellowship
REFRESH-INTERVAL;VALUE=DURATION:PT1H
X-Robots-Tag:noindex
X-PUBLISHED-TTL:PT1H
BEGIN:VTIMEZONE
TZID:UTC
BEGIN:STANDARD
TZOFFSETFROM:+0000
TZOFFSETTO:+0000
TZNAME:UTC
DTSTART:20220101T000000
END:STANDARD
END:VTIMEZONE
BEGIN:VEVENT
DTSTART;TZID=UTC:20220402T100000
DTEND;TZID=UTC:20220402T120000
DTSTAMP:20260423T002857
CREATED:20221010T060832Z
LAST-MODIFIED:20221010T060832Z
UID:1518-1648893600-1648900800@beitdavid.org
SUMMARY:Shabbat Service
DESCRIPTION:Weekly worship service\, including prayer and liturgy.  This week is our Torah service and we will meet in person\, and also share the service online via Zoom. Contact us for details.
URL:https://beitdavid.org/events-calendar/shabbat-service-71/
END:VEVENT
BEGIN:VEVENT
DTSTART;TZID=UTC:20220402T130000
DTEND;TZID=UTC:20220402T150000
DTSTAMP:20260423T002857
CREATED:20221010T061232Z
LAST-MODIFIED:20221010T061232Z
UID:1520-1648904400-1648911600@beitdavid.org
SUMMARY:Bible Study
DESCRIPTION:Join us for weekly Bible study/Torah Club after morning services. We begin after our oneg meal and also share the discussion on Zoom.  Contact us for details.
URL:https://beitdavid.org/events-calendar/bible-study-68/
END:VEVENT
BEGIN:VEVENT
DTSTART;TZID=UTC:20220409T100000
DTEND;TZID=UTC:20220409T120000
DTSTAMP:20260423T002857
CREATED:20221010T061506Z
LAST-MODIFIED:20221010T061506Z
UID:1522-1649498400-1649505600@beitdavid.org
SUMMARY:Shabbat Service
DESCRIPTION:Weekly worship service\, including prayer and liturgy.  This week is our Prayer and Healing service and we will meet in person\, and also share the service online via Zoom. Contact us for details.
URL:https://beitdavid.org/events-calendar/shabbat-service-72/
END:VEVENT
BEGIN:VEVENT
DTSTART;TZID=UTC:20220409T130000
DTEND;TZID=UTC:20220409T150000
DTSTAMP:20260423T002857
CREATED:20221010T061550Z
LAST-MODIFIED:20221010T062906Z
UID:1524-1649509200-1649516400@beitdavid.org
SUMMARY:Bible Study
DESCRIPTION:Join us for weekly Bible study/Torah Club after morning services. We begin after our oneg meal and also share the discussion on Zoom.  Contact us for details.
URL:https://beitdavid.org/events-calendar/bible-study-70/
END:VEVENT
BEGIN:VEVENT
DTSTART;TZID=UTC:20220416T110000
DTEND;TZID=UTC:20220416T140000
DTSTAMP:20260423T002857
CREATED:20221010T061758Z
LAST-MODIFIED:20221010T061758Z
UID:1526-1650106800-1650117600@beitdavid.org
SUMMARY:Passover Seder
DESCRIPTION:We will celebrate Passover together at our congregational seder at the Long Beach Airport Marriott.  Contact us for details and to purchase tickets.
URL:https://beitdavid.org/events-calendar/passover-seder-3/
END:VEVENT
BEGIN:VEVENT
DTSTART;TZID=UTC:20220423T100000
DTEND;TZID=UTC:20220423T120000
DTSTAMP:20260423T002857
CREATED:20221010T062036Z
LAST-MODIFIED:20221010T062036Z
UID:1529-1650708000-1650715200@beitdavid.org
SUMMARY:Shabbat Service
DESCRIPTION:Weekly worship service\, including prayer and liturgy.  This week is our Family service and we will meet in person\, and also share the service online via Zoom. Contact us for details.
URL:https://beitdavid.org/events-calendar/shabbat-service-73/
END:VEVENT
BEGIN:VEVENT
DTSTART;TZID=UTC:20220423T130000
DTEND;TZID=UTC:20220423T150000
DTSTAMP:20260423T002857
CREATED:20221010T062119Z
LAST-MODIFIED:20221010T062119Z
UID:1531-1650718800-1650726000@beitdavid.org
SUMMARY:Bible Study
DESCRIPTION:Join us for weekly Bible study/Torah Club after morning services. We begin after our oneg meal and also share the discussion on Zoom.  Contact us for details.
URL:https://beitdavid.org/events-calendar/bible-study-71/
END:VEVENT
BEGIN:VEVENT
DTSTART;TZID=UTC:20220430T100000
DTEND;TZID=UTC:20220430T120000
DTSTAMP:20260423T002857
CREATED:20221010T062312Z
LAST-MODIFIED:20221010T062312Z
UID:1533-1651312800-1651320000@beitdavid.org
SUMMARY:Shabbat Service
DESCRIPTION:Weekly worship service\, including prayer and liturgy.  This week is our service to focus on worship and we will meet in person\, and also share the service online via Zoom. Contact us for details.
URL:https://beitdavid.org/events-calendar/shabbat-service-74/
END:VEVENT
BEGIN:VEVENT
DTSTART;TZID=UTC:20220430T130000
DTEND;TZID=UTC:20220430T150000
DTSTAMP:20260423T002857
CREATED:20221010T062422Z
LAST-MODIFIED:20221010T062518Z
UID:1537-1651323600-1651330800@beitdavid.org
SUMMARY:Bible Study
DESCRIPTION:Join us for weekly Bible study/Torah Club after morning services. We begin after our oneg meal and also share the discussion on Zoom.  Contact us for details.
URL:https://beitdavid.org/events-calendar/bible-study-72/
END:VEVENT
END:VCALENDAR