BEGIN:VCALENDAR
VERSION:2.0
PRODID:-//Beit David Messianic Fellowship - ECPv5.12.2//NONSGML v1.0//EN
CALSCALE:GREGORIAN
METHOD:PUBLISH
X-WR-CALNAME:Beit David Messianic Fellowship
X-ORIGINAL-URL:https://beitdavid.org
X-WR-CALDESC:Events for Beit David Messianic Fellowship
REFRESH-INTERVAL;VALUE=DURATION:PT1H
X-Robots-Tag:noindex
X-PUBLISHED-TTL:PT1H
BEGIN:VTIMEZONE
TZID:UTC
BEGIN:STANDARD
TZOFFSETFROM:+0000
TZOFFSETTO:+0000
TZNAME:UTC
DTSTART:20220101T000000
END:STANDARD
END:VTIMEZONE
BEGIN:VEVENT
DTSTART;TZID=UTC:20221001T100000
DTEND;TZID=UTC:20221001T120000
DTSTAMP:20260422T164421
CREATED:20221005T160341Z
LAST-MODIFIED:20221005T160341Z
UID:1446-1664618400-1664625600@beitdavid.org
SUMMARY:Shabbat Service
DESCRIPTION:Weekly worship service\, including prayer and liturgy.  This week is our Torah service and we will meet in person\, and also share the service online via Zoom. Contact us for details.
URL:https://beitdavid.org/events-calendar/shabbat-service-62/
END:VEVENT
BEGIN:VEVENT
DTSTART;TZID=UTC:20221001T130000
DTEND;TZID=UTC:20221001T153000
DTSTAMP:20260422T164421
CREATED:20221005T160612Z
LAST-MODIFIED:20221005T160612Z
UID:1448-1664629200-1664638200@beitdavid.org
SUMMARY:Bible Study
DESCRIPTION:Join us for weekly Bible study/Torah Club after morning services. We begin after our oneg meal and also share the discussion on Zoom.  Contact us for details.
URL:https://beitdavid.org/events-calendar/bible-study-60/
END:VEVENT
BEGIN:VEVENT
DTSTART;TZID=UTC:20221004T190000
DTEND;TZID=UTC:20221004T210000
DTSTAMP:20260422T164421
CREATED:20221005T160810Z
LAST-MODIFIED:20221005T160810Z
UID:1450-1664910000-1664917200@beitdavid.org
SUMMARY:Kol Nidre Service
DESCRIPTION:Join us for the opening of the Day of Atonement\, Yom Kippur.  We will meet in person\, and also share the service online via Zoom. Contact us for details.
URL:https://beitdavid.org/events-calendar/kol-nidre-service-3/
END:VEVENT
BEGIN:VEVENT
DTSTART;TZID=UTC:20221005T170000
DTEND;TZID=UTC:20221005T190000
DTSTAMP:20260422T164421
CREATED:20221005T160932Z
LAST-MODIFIED:20221005T160932Z
UID:1453-1664989200-1664996400@beitdavid.org
SUMMARY:Yom Kippur Service
DESCRIPTION:Join us as we conclude Yom Kippur\, the Day of Atonement.  We will meet in person\, and also share the service online via Zoom. Contact us for details.
URL:https://beitdavid.org/events-calendar/yom-kippur-service-3/
END:VEVENT
BEGIN:VEVENT
DTSTART;TZID=UTC:20221005T190000
DTEND;TZID=UTC:20221005T210000
DTSTAMP:20260422T164421
CREATED:20221005T161033Z
LAST-MODIFIED:20221005T161033Z
UID:1455-1664996400-1665003600@beitdavid.org
SUMMARY:Yom Kippur Break-the-Fast Meal
DESCRIPTION:Join us after the Yom Kippur service as we share a potluck meal to break the fast together.  Feel free to bring something to share.
URL:https://beitdavid.org/events-calendar/yom-kippur-break-the-fast-meal-2/
END:VEVENT
BEGIN:VEVENT
DTSTART;TZID=UTC:20221008T100000
DTEND;TZID=UTC:20221008T120000
DTSTAMP:20260422T164421
CREATED:20221005T161247Z
LAST-MODIFIED:20221005T161247Z
UID:1457-1665223200-1665230400@beitdavid.org
SUMMARY:Shabbat Service and Sukkot Celebration
DESCRIPTION:Come celebrate the Feast of Tabernacles with us and wave the lulav and etrog to thank God for His blessings! \nWeekly worship service\, including prayer and liturgy.  This week is our Sukkot celebration and we will meet in person\, and also share the service online via Zoom. Contact us for details.
URL:https://beitdavid.org/events-calendar/shabbat-service-and-sukkot-celebration/
END:VEVENT
BEGIN:VEVENT
DTSTART;TZID=UTC:20221008T130000
DTEND;TZID=UTC:20221008T150000
DTSTAMP:20260422T164421
CREATED:20221005T161345Z
LAST-MODIFIED:20221005T161345Z
UID:1459-1665234000-1665241200@beitdavid.org
SUMMARY:Bible Study
DESCRIPTION:We’ll continue the celebration of Sukkot through our Bible study time. \nJoin us for weekly Bible study/Torah Club after morning services. We begin after our oneg meal and also share the discussion on Zoom.  Contact us for details.
URL:https://beitdavid.org/events-calendar/bible-study-61/
END:VEVENT
BEGIN:VEVENT
DTSTART;TZID=UTC:20221015T100000
DTEND;TZID=UTC:20221015T120000
DTSTAMP:20260422T164421
CREATED:20221005T161513Z
LAST-MODIFIED:20221005T161513Z
UID:1461-1665828000-1665835200@beitdavid.org
SUMMARY:Shabbat Service and Simchat Torah Celebration
DESCRIPTION:Come share in the Joy of the Torah with us! \nWeekly worship service\, including prayer and liturgy.  This week is our Simchat Torah Celebration service and we will meet in person\, and also share the service online via Zoom. Contact us for details.
URL:https://beitdavid.org/events-calendar/shabbat-service-and-simchat-torah-celebration/
END:VEVENT
BEGIN:VEVENT
DTSTART;TZID=UTC:20221015T130000
DTEND;TZID=UTC:20221015T150000
DTSTAMP:20260422T164421
CREATED:20221005T161626Z
LAST-MODIFIED:20221005T162431Z
UID:1462-1665838800-1665846000@beitdavid.org
SUMMARY:Bible Study
DESCRIPTION:We’ll continue our celebration of Simchat Torah through our Bible study time. \nJoin us for weekly Bible study/Torah Club after morning services. We begin after our oneg meal and also share the discussion on Zoom.  Contact us for details.
URL:https://beitdavid.org/events-calendar/shabbat-service-and-simchat-torah-celebration-2/
END:VEVENT
BEGIN:VEVENT
DTSTART;TZID=UTC:20221022T100000
DTEND;TZID=UTC:20221022T120000
DTSTAMP:20260422T164421
CREATED:20221005T162004Z
LAST-MODIFIED:20221006T122624Z
UID:1465-1666432800-1666440000@beitdavid.org
SUMMARY:Shabbat Service
DESCRIPTION:Weekly worship service\, including prayer and liturgy.  This week is our Family service and we will meet in person\, and also share the service online via Zoom. Contact us for details.
URL:https://beitdavid.org/events-calendar/shabbat-service-69/
END:VEVENT
BEGIN:VEVENT
DTSTART;TZID=UTC:20221022T130000
DTEND;TZID=UTC:20221022T150000
DTSTAMP:20260422T164421
CREATED:20221005T162130Z
LAST-MODIFIED:20221005T162130Z
UID:1467-1666443600-1666450800@beitdavid.org
SUMMARY:Bible Study
DESCRIPTION:Join us for weekly Bible study/Torah Club after morning services. We begin after our oneg meal and also share the discussion on Zoom.  Contact us for details.
URL:https://beitdavid.org/events-calendar/bible-study-62/
END:VEVENT
BEGIN:VEVENT
DTSTART;TZID=UTC:20221029T100000
DTEND;TZID=UTC:20221029T120000
DTSTAMP:20260422T164421
CREATED:20221005T162330Z
LAST-MODIFIED:20221006T122840Z
UID:1472-1667037600-1667044800@beitdavid.org
SUMMARY:Shabbat Service
DESCRIPTION:Weekly worship service\, including prayer and liturgy.  This week is our Worship service and we will meet in person\, and also share the service online via Zoom. Contact us for details.
URL:https://beitdavid.org/events-calendar/shabbat-service-70/
END:VEVENT
BEGIN:VEVENT
DTSTART;TZID=UTC:20221029T130000
DTEND;TZID=UTC:20221029T150000
DTSTAMP:20260422T164421
CREATED:20221005T162455Z
LAST-MODIFIED:20221005T162455Z
UID:1474-1667048400-1667055600@beitdavid.org
SUMMARY:Bible Study
DESCRIPTION:Beit David Annual Meeting \nJoin us for our annual meeting after morning services. We begin after our oneg meal and also share the discussion on Zoom.  Contact us for details.
URL:https://beitdavid.org/events-calendar/bible-study-63/
END:VEVENT
END:VCALENDAR