BEGIN:VCALENDAR
VERSION:2.0
PRODID:-//Beit David Messianic Fellowship - ECPv5.12.2//NONSGML v1.0//EN
CALSCALE:GREGORIAN
METHOD:PUBLISH
X-WR-CALNAME:Beit David Messianic Fellowship
X-ORIGINAL-URL:https://beitdavid.org
X-WR-CALDESC:Events for Beit David Messianic Fellowship
REFRESH-INTERVAL;VALUE=DURATION:PT1H
X-Robots-Tag:noindex
X-PUBLISHED-TTL:PT1H
BEGIN:VTIMEZONE
TZID:UTC
BEGIN:STANDARD
TZOFFSETFROM:+0000
TZOFFSETTO:+0000
TZNAME:UTC
DTSTART:20220101T000000
END:STANDARD
END:VTIMEZONE
BEGIN:VEVENT
DTSTART;TZID=UTC:20221203T100000
DTEND;TZID=UTC:20221203T120000
DTSTAMP:20260422T134646
CREATED:20221005T163948Z
LAST-MODIFIED:20221005T163948Z
UID:1496-1670061600-1670068800@beitdavid.org
SUMMARY:Shabbat Service
DESCRIPTION:Weekly worship service\, including prayer and liturgy.  This week is our Torah service and we will meet in person\, and also share the service online via Zoom. Contact us for details.
URL:https://beitdavid.org/events-calendar/shabbat-service-66/
END:VEVENT
BEGIN:VEVENT
DTSTART;TZID=UTC:20221203T130000
DTEND;TZID=UTC:20221203T150000
DTSTAMP:20260422T134646
CREATED:20221005T164059Z
LAST-MODIFIED:20221005T164059Z
UID:1498-1670072400-1670079600@beitdavid.org
SUMMARY:Bible Study
DESCRIPTION:Join us for weekly Bible study/Torah Club after morning services. We begin after our oneg meal and also share the discussion on Zoom.  Contact us for details.
URL:https://beitdavid.org/events-calendar/bible-study-67/
END:VEVENT
BEGIN:VEVENT
DTSTART;TZID=UTC:20221210T100000
DTEND;TZID=UTC:20221210T120000
DTSTAMP:20260422T134646
CREATED:20221005T164414Z
LAST-MODIFIED:20221005T164414Z
UID:1503-1670666400-1670673600@beitdavid.org
SUMMARY:Shabbat Service
DESCRIPTION:Weekly worship service\, including prayer and liturgy.  This week is our Prayer and Healing service and we will meet in person\, and also share the service online via Zoom. Contact us for details.
URL:https://beitdavid.org/events-calendar/shabbat-service-67/
END:VEVENT
BEGIN:VEVENT
DTSTART;TZID=UTC:20221210T130000
DTEND;TZID=UTC:20221210T150000
DTSTAMP:20260422T134646
CREATED:20221005T164528Z
LAST-MODIFIED:20221005T164528Z
UID:1505-1670677200-1670684400@beitdavid.org
SUMMARY:Bible Study
DESCRIPTION:Join us for weekly Bible study/Torah Club after morning services. We begin after our oneg meal and also share the discussion on Zoom.  Contact us for details.
URL:https://beitdavid.org/events-calendar/bible-study-69/
END:VEVENT
BEGIN:VEVENT
DTSTART;TZID=UTC:20221217T100000
DTEND;TZID=UTC:20221217T120000
DTSTAMP:20260422T134646
CREATED:20221005T164703Z
LAST-MODIFIED:20221005T164703Z
UID:1507-1671271200-1671278400@beitdavid.org
SUMMARY:Shabbat Service
DESCRIPTION:Weekly worship service\, including prayer and liturgy.  This week is our Messianic Perspectives service and we will meet in person\, and also share the service online via Zoom. Contact us for details.
URL:https://beitdavid.org/events-calendar/shabbat-service-68/
END:VEVENT
BEGIN:VEVENT
DTSTART;TZID=UTC:20221217T130000
DTEND;TZID=UTC:20221217T150000
DTSTAMP:20260422T134646
CREATED:20221005T164819Z
LAST-MODIFIED:20221005T164819Z
UID:1509-1671282000-1671289200@beitdavid.org
SUMMARY:Hanukkah Celebration
DESCRIPTION:Join us for celebration of the Festival of Lights after morning services. We will enjoy festive foods and play games like spin the dreidel.
URL:https://beitdavid.org/events-calendar/hanukkah-celebration-3/
END:VEVENT
BEGIN:VEVENT
DTSTART;VALUE=DATE:20221224
DTEND;VALUE=DATE:20221225
DTSTAMP:20260422T134646
CREATED:20221005T164959Z
LAST-MODIFIED:20221010T014054Z
UID:1511-1671840000-1671926399@beitdavid.org
SUMMARY:Year End Holiday Weekend – No Shabbat Service
DESCRIPTION:We will not be holding our Shabbat services. We are taking this time to allow our leaders an opportunity for rest and rejuvenation.
URL:https://beitdavid.org/events-calendar/year-end-holiday-weekend-no-shabbat-service/
END:VEVENT
BEGIN:VEVENT
DTSTART;VALUE=DATE:20221231
DTEND;VALUE=DATE:20230101
DTSTAMP:20260422T134646
CREATED:20221005T165104Z
LAST-MODIFIED:20221010T013911Z
UID:1512-1672444800-1672531199@beitdavid.org
SUMMARY:Year End Holiday Weekend – No Shabbat Service
DESCRIPTION:We will not be holding our Shabbat services. We are taking this time to allow our leaders an opportunity for rest and rejuvenation.
URL:https://beitdavid.org/events-calendar/year-end-holiday-weekend-no-shabbat-service-2/
END:VEVENT
END:VCALENDAR