BEGIN:VCALENDAR
VERSION:2.0
PRODID:-//Beit David Messianic Fellowship - ECPv5.12.2//NONSGML v1.0//EN
CALSCALE:GREGORIAN
METHOD:PUBLISH
X-WR-CALNAME:Beit David Messianic Fellowship
X-ORIGINAL-URL:https://beitdavid.org
X-WR-CALDESC:Events for Beit David Messianic Fellowship
REFRESH-INTERVAL;VALUE=DURATION:PT1H
X-Robots-Tag:noindex
X-PUBLISHED-TTL:PT1H
BEGIN:VTIMEZONE
TZID:UTC
BEGIN:STANDARD
TZOFFSETFROM:+0000
TZOFFSETTO:+0000
TZNAME:UTC
DTSTART:20230101T000000
END:STANDARD
END:VTIMEZONE
BEGIN:VEVENT
DTSTART;TZID=UTC:20230401T100000
DTEND;TZID=UTC:20230401T120000
DTSTAMP:20260422T081106
CREATED:20230213T092810Z
LAST-MODIFIED:20230213T092810Z
UID:1735-1680343200-1680350400@beitdavid.org
SUMMARY:Shabbat Service
DESCRIPTION:Weekly worship service\, including prayer and liturgy.  This week is our Torah service and we will meet in person\, and also share the service online via Zoom. Contact us for details.
URL:https://beitdavid.org/events-calendar/shabbat-service-103/
END:VEVENT
BEGIN:VEVENT
DTSTART;TZID=UTC:20230401T130000
DTEND;TZID=UTC:20230401T150000
DTSTAMP:20260422T081106
CREATED:20230213T092912Z
LAST-MODIFIED:20230213T092912Z
UID:1738-1680354000-1680361200@beitdavid.org
SUMMARY:Bible Study
DESCRIPTION:Join us for weekly Bible study/Torah Club after morning services. We begin after our oneg meal and share the discussion on Zoom.  Contact us for details.
URL:https://beitdavid.org/events-calendar/bible-study-100/
END:VEVENT
BEGIN:VEVENT
DTSTART;TZID=UTC:20230408T110000
DTEND;TZID=UTC:20230408T140000
DTSTAMP:20260422T081106
CREATED:20230213T093029Z
LAST-MODIFIED:20230213T093029Z
UID:1740-1680951600-1680962400@beitdavid.org
SUMMARY:Passover Seder
DESCRIPTION:We will celebrate Passover together at our congregational seder at the Long Beach Airport Marriott.  Contact us for details and to purchase tickets.
URL:https://beitdavid.org/events-calendar/passover-seder-4/
END:VEVENT
BEGIN:VEVENT
DTSTART;TZID=UTC:20230415T100000
DTEND;TZID=UTC:20230415T120000
DTSTAMP:20260422T081106
CREATED:20230213T093119Z
LAST-MODIFIED:20230213T093119Z
UID:1742-1681552800-1681560000@beitdavid.org
SUMMARY:Shabbat Service
DESCRIPTION:Weekly worship service\, including prayer and liturgy.  This week is our Messianic Perspectives service and we will meet in person\, and also share the service online via Zoom. Contact us for details.
URL:https://beitdavid.org/events-calendar/shabbat-service-104/
END:VEVENT
BEGIN:VEVENT
DTSTART;TZID=UTC:20230415T130000
DTEND;TZID=UTC:20230415T150000
DTSTAMP:20260422T081106
CREATED:20230213T093440Z
LAST-MODIFIED:20230213T093440Z
UID:1744-1681563600-1681570800@beitdavid.org
SUMMARY:Bible Study
DESCRIPTION:Join us for weekly Bible study/Torah Club after morning services. We begin after our oneg meal and also share the discussion on Zoom.  Contact us for details.
URL:https://beitdavid.org/events-calendar/bible-study-101/
END:VEVENT
BEGIN:VEVENT
DTSTART;TZID=UTC:20230422T100000
DTEND;TZID=UTC:20230422T120000
DTSTAMP:20260422T081106
CREATED:20230213T093535Z
LAST-MODIFIED:20230213T093535Z
UID:1746-1682157600-1682164800@beitdavid.org
SUMMARY:Shabbat Service
DESCRIPTION:Weekly worship service\, including prayer and liturgy.  This week is our Family service and we will meet in person\, and also share the service online via Zoom. Contact us for details.
URL:https://beitdavid.org/events-calendar/shabbat-service-105/
END:VEVENT
BEGIN:VEVENT
DTSTART;TZID=UTC:20230422T130000
DTEND;TZID=UTC:20230422T150000
DTSTAMP:20260422T081106
CREATED:20230213T093644Z
LAST-MODIFIED:20230213T093644Z
UID:1748-1682168400-1682175600@beitdavid.org
SUMMARY:Bible Study
DESCRIPTION:Join us for weekly Bible study/Torah Club after morning services. We begin after our oneg meal and also share the discussion on Zoom.  Contact us for details.
URL:https://beitdavid.org/events-calendar/bible-study-102/
END:VEVENT
BEGIN:VEVENT
DTSTART;TZID=UTC:20230429T100000
DTEND;TZID=UTC:20230429T120000
DTSTAMP:20260422T081106
CREATED:20230213T093740Z
LAST-MODIFIED:20230213T093740Z
UID:1750-1682762400-1682769600@beitdavid.org
SUMMARY:Shabbat Service
DESCRIPTION:Weekly worship service\, including prayer and liturgy.  This week is our service to focus on worship and we will meet in person\, and also share the service online via Zoom. Contact us for details.
URL:https://beitdavid.org/events-calendar/shabbat-service-106/
END:VEVENT
BEGIN:VEVENT
DTSTART;TZID=UTC:20230429T130000
DTEND;TZID=UTC:20230429T150000
DTSTAMP:20260422T081106
CREATED:20230213T093831Z
LAST-MODIFIED:20230213T093831Z
UID:1752-1682773200-1682780400@beitdavid.org
SUMMARY:Bible Study
DESCRIPTION:Join us for weekly Bible study/Torah Club after morning services. We begin after our oneg meal and also share the discussion on Zoom.  Contact us for details.
URL:https://beitdavid.org/events-calendar/bible-study-103/
END:VEVENT
END:VCALENDAR