BEGIN:VCALENDAR
VERSION:2.0
PRODID:-//Beit David Messianic Fellowship - ECPv5.12.2//NONSGML v1.0//EN
CALSCALE:GREGORIAN
METHOD:PUBLISH
X-WR-CALNAME:Beit David Messianic Fellowship
X-ORIGINAL-URL:https://beitdavid.org
X-WR-CALDESC:Events for Beit David Messianic Fellowship
REFRESH-INTERVAL;VALUE=DURATION:PT1H
X-Robots-Tag:noindex
X-PUBLISHED-TTL:PT1H
BEGIN:VTIMEZONE
TZID:UTC
BEGIN:STANDARD
TZOFFSETFROM:+0000
TZOFFSETTO:+0000
TZNAME:UTC
DTSTART:20230101T000000
END:STANDARD
END:VTIMEZONE
BEGIN:VEVENT
DTSTART;TZID=UTC:20230701T100000
DTEND;TZID=UTC:20230701T120000
DTSTAMP:20260422T034024
CREATED:20230613T115709Z
LAST-MODIFIED:20230613T115709Z
UID:1790-1688205600-1688212800@beitdavid.org
SUMMARY:Shabbat Service
DESCRIPTION:Weekly worship service\, including prayer and liturgy.  This week is our Torah service and we will meet in person\, and also share the service online via Zoom. Contact us for details.
URL:https://beitdavid.org/events-calendar/shabbat-service-114/
END:VEVENT
BEGIN:VEVENT
DTSTART;TZID=UTC:20230701T130000
DTEND;TZID=UTC:20230701T150000
DTSTAMP:20260422T034024
CREATED:20230613T115752Z
LAST-MODIFIED:20230613T115752Z
UID:1792-1688216400-1688223600@beitdavid.org
SUMMARY:Bible Study
DESCRIPTION:Join us for weekly Bible study/Torah Club after morning services. We begin after our oneg meal and also share the discussion on Zoom.  Contact us for details.
URL:https://beitdavid.org/events-calendar/bible-study-112/
END:VEVENT
BEGIN:VEVENT
DTSTART;TZID=UTC:20230708T100000
DTEND;TZID=UTC:20230708T120000
DTSTAMP:20260422T034024
CREATED:20230613T115821Z
LAST-MODIFIED:20230613T115821Z
UID:1794-1688810400-1688817600@beitdavid.org
SUMMARY:Shabbat Service
DESCRIPTION:Weekly worship service\, including prayer and liturgy.  This week is our Prayer and Healing service and we will meet in person\, and also share the service online via Zoom. Contact us for details.
URL:https://beitdavid.org/events-calendar/shabbat-service-115/
END:VEVENT
BEGIN:VEVENT
DTSTART;TZID=UTC:20230708T130000
DTEND;TZID=UTC:20230708T150000
DTSTAMP:20260422T034024
CREATED:20230613T115904Z
LAST-MODIFIED:20230613T115904Z
UID:1796-1688821200-1688828400@beitdavid.org
SUMMARY:Bible Study
DESCRIPTION:Join us for weekly Bible study/Torah Club after morning services. We begin after our oneg meal and also share the discussion on Zoom.  Contact us for details.
URL:https://beitdavid.org/events-calendar/bible-study-113/
END:VEVENT
BEGIN:VEVENT
DTSTART;TZID=UTC:20230715T100000
DTEND;TZID=UTC:20230715T120000
DTSTAMP:20260422T034024
CREATED:20230613T115943Z
LAST-MODIFIED:20230613T115943Z
UID:1798-1689415200-1689422400@beitdavid.org
SUMMARY:Shabbat Service
DESCRIPTION:Weekly worship service\, including prayer and liturgy.  This week is our Messianic Perspectives service and we will meet in person\, and also share the service online via Zoom. Contact us for details.
URL:https://beitdavid.org/events-calendar/shabbat-service-116/
END:VEVENT
BEGIN:VEVENT
DTSTART;TZID=UTC:20230715T130000
DTEND;TZID=UTC:20230715T150000
DTSTAMP:20260422T034024
CREATED:20230613T120013Z
LAST-MODIFIED:20230613T120013Z
UID:1800-1689426000-1689433200@beitdavid.org
SUMMARY:Bible Study
DESCRIPTION:Join us for weekly Bible study/Torah Club after morning services. We begin after our oneg meal and also share the discussion on Zoom.  Contact us for details.
URL:https://beitdavid.org/events-calendar/bible-study-114/
END:VEVENT
BEGIN:VEVENT
DTSTART;TZID=UTC:20230722T100000
DTEND;TZID=UTC:20230722T120000
DTSTAMP:20260422T034024
CREATED:20230613T120044Z
LAST-MODIFIED:20230613T120044Z
UID:1802-1690020000-1690027200@beitdavid.org
SUMMARY:Shabbat Service
DESCRIPTION:Weekly worship service\, including prayer and liturgy.  This week is our Family service and we will meet in person\, and also share the service online via Zoom. Contact us for details.
URL:https://beitdavid.org/events-calendar/shabbat-service-117/
END:VEVENT
BEGIN:VEVENT
DTSTART;TZID=UTC:20230722T130000
DTEND;TZID=UTC:20230722T150000
DTSTAMP:20260422T034024
CREATED:20230613T120117Z
LAST-MODIFIED:20230613T120117Z
UID:1804-1690030800-1690038000@beitdavid.org
SUMMARY:Bible Study
DESCRIPTION:Join us for weekly Bible study/Torah Club after morning services. We begin after our oneg meal and also share the discussion on Zoom.  Contact us for details.
URL:https://beitdavid.org/events-calendar/bible-study-115/
END:VEVENT
BEGIN:VEVENT
DTSTART;TZID=UTC:20230729T100000
DTEND;TZID=UTC:20230729T120000
DTSTAMP:20260422T034024
CREATED:20230613T120143Z
LAST-MODIFIED:20230613T120143Z
UID:1806-1690624800-1690632000@beitdavid.org
SUMMARY:Shabbat Service
DESCRIPTION:Weekly worship service\, including prayer and liturgy.  This week is our service to focus on worship and we will meet in person\, and also share the service online via Zoom. Contact us for details.
URL:https://beitdavid.org/events-calendar/shabbat-service-118/
END:VEVENT
BEGIN:VEVENT
DTSTART;TZID=UTC:20230729T130000
DTEND;TZID=UTC:20230729T150000
DTSTAMP:20260422T034024
CREATED:20230613T120211Z
LAST-MODIFIED:20230613T120211Z
UID:1808-1690635600-1690642800@beitdavid.org
SUMMARY:Bible Study
DESCRIPTION:Join us for weekly Bible study/Torah Club after morning services. We begin after our oneg meal and also share the discussion on Zoom.  Contact us for details.
URL:https://beitdavid.org/events-calendar/bible-study-116/
END:VEVENT
END:VCALENDAR