BEGIN:VCALENDAR
VERSION:2.0
PRODID:-//Beit David Messianic Fellowship - ECPv5.12.2//NONSGML v1.0//EN
CALSCALE:GREGORIAN
METHOD:PUBLISH
X-WR-CALNAME:Beit David Messianic Fellowship
X-ORIGINAL-URL:https://beitdavid.org
X-WR-CALDESC:Events for Beit David Messianic Fellowship
REFRESH-INTERVAL;VALUE=DURATION:PT1H
X-Robots-Tag:noindex
X-PUBLISHED-TTL:PT1H
BEGIN:VTIMEZONE
TZID:UTC
BEGIN:STANDARD
TZOFFSETFROM:+0000
TZOFFSETTO:+0000
TZNAME:UTC
DTSTART:20230101T000000
END:STANDARD
END:VTIMEZONE
BEGIN:VEVENT
DTSTART;VALUE=DATE:20230902
DTEND;VALUE=DATE:20230903
DTSTAMP:20260422T010231
CREATED:20230914T200754Z
LAST-MODIFIED:20230914T200754Z
UID:1837-1693612800-1693699199@beitdavid.org
SUMMARY:Holiday Weekend – No Shabbat Service
DESCRIPTION:We will not be holding our Shabbat services.  We are taking this time to allow our leaders an opportunity for rest and rejuvenation.
URL:https://beitdavid.org/events-calendar/holiday-weekend-no-shabbat-service-4/
END:VEVENT
BEGIN:VEVENT
DTSTART;TZID=UTC:20230909T100000
DTEND;TZID=UTC:20230909T120000
DTSTAMP:20260422T010231
CREATED:20230914T201758Z
LAST-MODIFIED:20230914T201758Z
UID:1843-1694253600-1694260800@beitdavid.org
SUMMARY:Shabbat Service
DESCRIPTION:Weekly worship service\, including prayer and liturgy.  This week is our Prayer and Healing service and we will meet in person\, and also share the service online via Zoom. Contact us for details.
URL:https://beitdavid.org/events-calendar/shabbat-service-123/
END:VEVENT
BEGIN:VEVENT
DTSTART;TZID=UTC:20230909T130000
DTEND;TZID=UTC:20230909T150000
DTSTAMP:20260422T010231
CREATED:20230914T224534Z
LAST-MODIFIED:20230914T224534Z
UID:1845-1694264400-1694271600@beitdavid.org
SUMMARY:Bible Study
DESCRIPTION:Join us for weekly Bible study/Torah Club after morning services. We begin after our oneg meal and also share the discussion on Zoom.  Contact us for details.
URL:https://beitdavid.org/events-calendar/bible-study-122/
END:VEVENT
BEGIN:VEVENT
DTSTART;TZID=UTC:20230916T100000
DTEND;TZID=UTC:20230916T120000
DTSTAMP:20260422T010231
CREATED:20230914T201209Z
LAST-MODIFIED:20230914T201209Z
UID:1839-1694858400-1694865600@beitdavid.org
SUMMARY:Rosh Hashanah Shabbat Service
DESCRIPTION:Join us as we welcome the new year with our celebration of the Feast of Trumpets! We will meet in person\, and also share the service online via Zoom. Contact us for details.
URL:https://beitdavid.org/events-calendar/rosh-hashanah-shabbat-service/
END:VEVENT
BEGIN:VEVENT
DTSTART;TZID=UTC:20230916T130000
DTEND;TZID=UTC:20230916T150000
DTSTAMP:20260422T010231
CREATED:20230914T201333Z
LAST-MODIFIED:20230915T001126Z
UID:1841-1694869200-1694876400@beitdavid.org
SUMMARY:Bible Study
DESCRIPTION:We’ll continue the celebration of Rosh Hashanah through our Bible study time. \nJoin us for weekly Bible study/Torah Club after morning services. We begin after our oneg meal and also share the discussion on Zoom.  Contact us for details.
URL:https://beitdavid.org/events-calendar/bible-study-121/
END:VEVENT
BEGIN:VEVENT
DTSTART;TZID=UTC:20230923T100000
DTEND;TZID=UTC:20230923T120000
DTSTAMP:20260422T010231
CREATED:20230914T235745Z
LAST-MODIFIED:20230914T235745Z
UID:1848-1695463200-1695470400@beitdavid.org
SUMMARY:Shabbat Shuvah Service
DESCRIPTION:Shabbat Shuvah is the Shabbat that occurs during the Ten Days of Repentance between Rosh Hashanah and Yom Kippur. \nWeekly worship service\, including prayer and liturgy.  This week is our Family service and we will meet in person\, and also share the service online via Zoom. Contact us for details.
URL:https://beitdavid.org/events-calendar/shabbat-shuvah-service/
END:VEVENT
BEGIN:VEVENT
DTSTART;TZID=UTC:20230923T130000
DTEND;TZID=UTC:20230923T150000
DTSTAMP:20260422T010231
CREATED:20230914T235906Z
LAST-MODIFIED:20230914T235906Z
UID:1851-1695474000-1695481200@beitdavid.org
SUMMARY:Bible Study
DESCRIPTION:Join us for weekly Bible study/Torah Club after morning services. We begin after our oneg meal and also share the discussion on Zoom.  Contact us for details.
URL:https://beitdavid.org/events-calendar/bible-study-123/
END:VEVENT
BEGIN:VEVENT
DTSTART;TZID=UTC:20230924T190000
DTEND;TZID=UTC:20230924T210000
DTSTAMP:20260422T010231
CREATED:20230915T000052Z
LAST-MODIFIED:20230915T000052Z
UID:1853-1695582000-1695589200@beitdavid.org
SUMMARY:Kol Nidre Service
DESCRIPTION:Join us for the opening of the Day of Atonement\, Yom Kippur.  We will meet in person\, and also share the service online via Zoom. Contact us for details.
URL:https://beitdavid.org/events-calendar/kol-nidre-service-4/
END:VEVENT
BEGIN:VEVENT
DTSTART;TZID=UTC:20230925T170000
DTEND;TZID=UTC:20230925T190000
DTSTAMP:20260422T010231
CREATED:20230915T000222Z
LAST-MODIFIED:20230915T000222Z
UID:1855-1695661200-1695668400@beitdavid.org
SUMMARY:Yom Kippur Service
DESCRIPTION:Join us as we conclude Yom Kippur\, the Day of Atonement.  We will meet in person\, and also share the service online via Zoom. Contact us for details.
URL:https://beitdavid.org/events-calendar/yom-kippur-service-4/
END:VEVENT
BEGIN:VEVENT
DTSTART;TZID=UTC:20230925T190000
DTEND;TZID=UTC:20230925T210000
DTSTAMP:20260422T010231
CREATED:20230915T000419Z
LAST-MODIFIED:20230915T000419Z
UID:1857-1695668400-1695675600@beitdavid.org
SUMMARY:Yom Kippur Break-the-Fast Meal
DESCRIPTION:Join us after the Yom Kippur service as we share a potluck meal to break the fast together.  Feel free to bring something to share.
URL:https://beitdavid.org/events-calendar/yom-kippur-break-the-fast-meal-3/
END:VEVENT
BEGIN:VEVENT
DTSTART;TZID=UTC:20230930T100000
DTEND;TZID=UTC:20230930T120000
DTSTAMP:20260422T010231
CREATED:20230915T000636Z
LAST-MODIFIED:20230915T000636Z
UID:1859-1696068000-1696075200@beitdavid.org
SUMMARY:Shabbat Service and Sukkot Celebration
DESCRIPTION:Come celebrate the Feast of Tabernacles with us and wave the lulav and etrog to thank God for His blessings! \nWeekly worship service\, including prayer and liturgy.  This week is our Sukkot celebration and we will meet in person\, and also share the service online via Zoom. Contact us for details.
URL:https://beitdavid.org/events-calendar/shabbat-service-and-sukkot-celebration-2/
END:VEVENT
BEGIN:VEVENT
DTSTART;TZID=UTC:20230930T130000
DTEND;TZID=UTC:20230930T150000
DTSTAMP:20260422T010231
CREATED:20230915T000830Z
LAST-MODIFIED:20230915T000830Z
UID:1861-1696078800-1696086000@beitdavid.org
SUMMARY:Bible Study
DESCRIPTION:We’ll continue the celebration of Sukkot through our Bible study time. \nJoin us for weekly Bible study/Torah Club after morning services. We begin after our oneg meal and also share the discussion on Zoom.  Contact us for details.
URL:https://beitdavid.org/events-calendar/bible-study-124/
END:VEVENT
END:VCALENDAR