BEGIN:VCALENDAR
VERSION:2.0
PRODID:-//Beit David Messianic Fellowship - ECPv5.12.2//NONSGML v1.0//EN
CALSCALE:GREGORIAN
METHOD:PUBLISH
X-WR-CALNAME:Beit David Messianic Fellowship
X-ORIGINAL-URL:https://beitdavid.org
X-WR-CALDESC:Events for Beit David Messianic Fellowship
REFRESH-INTERVAL;VALUE=DURATION:PT1H
X-Robots-Tag:noindex
X-PUBLISHED-TTL:PT1H
BEGIN:VTIMEZONE
TZID:UTC
BEGIN:STANDARD
TZOFFSETFROM:+0000
TZOFFSETTO:+0000
TZNAME:UTC
DTSTART:20240101T000000
END:STANDARD
END:VTIMEZONE
BEGIN:VEVENT
DTSTART;TZID=UTC:20240302T100000
DTEND;TZID=UTC:20240302T120000
DTSTAMP:20260421T164148
CREATED:20240723T095712Z
LAST-MODIFIED:20240723T095712Z
UID:1920-1709373600-1709380800@beitdavid.org
SUMMARY:Shabbat Service
DESCRIPTION:Weekly worship service\, including prayer and liturgy.  This week is our Torah service and we will meet in person\, and also share the service online via Zoom. Contact us for details.
URL:https://beitdavid.org/events-calendar/shabbat-service-129/
END:VEVENT
BEGIN:VEVENT
DTSTART;TZID=UTC:20240302T130000
DTEND;TZID=UTC:20240302T150000
DTSTAMP:20260421T164148
CREATED:20240723T095746Z
LAST-MODIFIED:20240723T095746Z
UID:1922-1709384400-1709391600@beitdavid.org
SUMMARY:Bible Study
DESCRIPTION:Join us for weekly Bible study/Torah Club after morning services. We begin after our oneg meal and also share the discussion on Zoom.  Contact us for details.
URL:https://beitdavid.org/events-calendar/bible-study-133/
END:VEVENT
BEGIN:VEVENT
DTSTART;TZID=UTC:20240309T100000
DTEND;TZID=UTC:20240309T120000
DTSTAMP:20260421T164148
CREATED:20240723T095820Z
LAST-MODIFIED:20240723T095820Z
UID:1924-1709978400-1709985600@beitdavid.org
SUMMARY:Shabbat Service
DESCRIPTION:Weekly worship service\, including prayer and liturgy.  This week is our Prayer and Healing service and we will meet in person\, and also share the service online via Zoom. Contact us for details.
URL:https://beitdavid.org/events-calendar/shabbat-service-130/
END:VEVENT
BEGIN:VEVENT
DTSTART;TZID=UTC:20240309T130000
DTEND;TZID=UTC:20240309T150000
DTSTAMP:20260421T164148
CREATED:20240723T095850Z
LAST-MODIFIED:20240723T095850Z
UID:1926-1709989200-1709996400@beitdavid.org
SUMMARY:Bible Study
DESCRIPTION:Join us for weekly Bible study/Torah Club after morning services. We begin after our oneg meal and share the discussion on Zoom.  Contact us for details.
URL:https://beitdavid.org/events-calendar/bible-study-134/
END:VEVENT
BEGIN:VEVENT
DTSTART;TZID=UTC:20240316T100000
DTEND;TZID=UTC:20240316T120000
DTSTAMP:20260421T164148
CREATED:20240723T114049Z
LAST-MODIFIED:20240723T114049Z
UID:1930-1710583200-1710590400@beitdavid.org
SUMMARY:Shabbat Service
DESCRIPTION:Weekly worship service\, including prayer and liturgy.  This week is our Messianic Perspectives service and we will meet in person\, and also share the service online via Zoom. Contact us for details.
URL:https://beitdavid.org/events-calendar/shabbat-service-131/
END:VEVENT
BEGIN:VEVENT
DTSTART;TZID=UTC:20240316T130000
DTEND;TZID=UTC:20240316T150000
DTSTAMP:20260421T164148
CREATED:20240723T114122Z
LAST-MODIFIED:20240723T114122Z
UID:1932-1710594000-1710601200@beitdavid.org
SUMMARY:Bible Study
DESCRIPTION:Join us for weekly Bible study/Torah Club after morning services. We begin after our oneg meal and share the discussion on Zoom.  Contact us for details.
URL:https://beitdavid.org/events-calendar/bible-study-135/
END:VEVENT
BEGIN:VEVENT
DTSTART;TZID=UTC:20240323T100000
DTEND;TZID=UTC:20240323T120000
DTSTAMP:20260421T164148
CREATED:20240723T114152Z
LAST-MODIFIED:20240723T114152Z
UID:1934-1711188000-1711195200@beitdavid.org
SUMMARY:Shabbat Service
DESCRIPTION:Weekly worship service\, including prayer and liturgy.  This week is our Family service and we will meet in person\, and also share the service online via Zoom. Contact us for details.
URL:https://beitdavid.org/events-calendar/shabbat-service-132/
END:VEVENT
BEGIN:VEVENT
DTSTART;TZID=UTC:20240323T130000
DTEND;TZID=UTC:20240323T150000
DTSTAMP:20260421T164148
CREATED:20240723T114222Z
LAST-MODIFIED:20240723T114222Z
UID:1936-1711198800-1711206000@beitdavid.org
SUMMARY:Purim Celebration
DESCRIPTION:Join us for our Purim Celebration after morning services. We’ll learn about the Festival of Lots\, and munch on hamantaschen as we read the story of Esther.  Contact us for details.
URL:https://beitdavid.org/events-calendar/purim-celebration-3/
END:VEVENT
BEGIN:VEVENT
DTSTART;TZID=UTC:20240330T100000
DTEND;TZID=UTC:20240330T120000
DTSTAMP:20260421T164148
CREATED:20240723T114256Z
LAST-MODIFIED:20240723T114256Z
UID:1938-1711792800-1711800000@beitdavid.org
SUMMARY:Shabbat Service
DESCRIPTION:Weekly worship service\, including prayer and liturgy.  This week is our service to focus on worship and we will meet in person\, and also share the service online via Zoom. Contact us for details.
URL:https://beitdavid.org/events-calendar/shabbat-service-133/
END:VEVENT
BEGIN:VEVENT
DTSTART;TZID=UTC:20240330T130000
DTEND;TZID=UTC:20240330T150000
DTSTAMP:20260421T164148
CREATED:20240723T114326Z
LAST-MODIFIED:20240723T114326Z
UID:1940-1711803600-1711810800@beitdavid.org
SUMMARY:Bible Study
DESCRIPTION:Join us for weekly Bible study/Torah Club after morning services. We begin after our oneg meal and also share the discussion on Zoom.  Contact us for details.
URL:https://beitdavid.org/events-calendar/bible-study-136/
END:VEVENT
END:VCALENDAR