BEGIN:VCALENDAR
VERSION:2.0
PRODID:-//Beit David Messianic Fellowship - ECPv5.12.2//NONSGML v1.0//EN
CALSCALE:GREGORIAN
METHOD:PUBLISH
X-WR-CALNAME:Beit David Messianic Fellowship
X-ORIGINAL-URL:https://beitdavid.org
X-WR-CALDESC:Events for Beit David Messianic Fellowship
REFRESH-INTERVAL;VALUE=DURATION:PT1H
X-Robots-Tag:noindex
X-PUBLISHED-TTL:PT1H
BEGIN:VTIMEZONE
TZID:UTC
BEGIN:STANDARD
TZOFFSETFROM:+0000
TZOFFSETTO:+0000
TZNAME:UTC
DTSTART:20240101T000000
END:STANDARD
END:VTIMEZONE
BEGIN:VEVENT
DTSTART;TZID=UTC:20240601T100000
DTEND;TZID=UTC:20240601T120000
DTSTAMP:20260421T122536
CREATED:20240723T122013Z
LAST-MODIFIED:20240723T122013Z
UID:1971-1717236000-1717243200@beitdavid.org
SUMMARY:Shabbat Service
DESCRIPTION:Weekly worship service\, including prayer and liturgy.  This week is our Torah service and we will meet in person\, and also share the service online via Zoom. Contact us for details.
URL:https://beitdavid.org/events-calendar/shabbat-service-139/
END:VEVENT
BEGIN:VEVENT
DTSTART;TZID=UTC:20240601T130000
DTEND;TZID=UTC:20240601T150000
DTSTAMP:20260421T122536
CREATED:20240723T122041Z
LAST-MODIFIED:20240723T122041Z
UID:1973-1717246800-1717254000@beitdavid.org
SUMMARY:Bible Study
DESCRIPTION:Join us for weekly Bible study/Torah Club after morning services. We begin after our oneg meal and also share the discussion on Zoom.  Contact us for details.
URL:https://beitdavid.org/events-calendar/bible-study-144/
END:VEVENT
BEGIN:VEVENT
DTSTART;TZID=UTC:20240608T100000
DTEND;TZID=UTC:20240608T120000
DTSTAMP:20260421T122536
CREATED:20240723T122120Z
LAST-MODIFIED:20240723T122120Z
UID:1975-1717840800-1717848000@beitdavid.org
SUMMARY:Shabbat Service
DESCRIPTION:Weekly worship service\, including prayer and liturgy.  This week is our Prayer and Healing service and we will meet in person\, and also share the service online via Zoom. Contact us for details.
URL:https://beitdavid.org/events-calendar/shabbat-service-140/
END:VEVENT
BEGIN:VEVENT
DTSTART;TZID=UTC:20240608T130000
DTEND;TZID=UTC:20240608T150000
DTSTAMP:20260421T122536
CREATED:20240723T122148Z
LAST-MODIFIED:20240723T122148Z
UID:1977-1717851600-1717858800@beitdavid.org
SUMMARY:Bible Study
DESCRIPTION:Join us for weekly Bible study/Torah Club after morning services. We begin after our oneg meal and also share the discussion on Zoom.  Contact us for details.
URL:https://beitdavid.org/events-calendar/bible-study-145/
END:VEVENT
BEGIN:VEVENT
DTSTART;TZID=UTC:20240615T100000
DTEND;TZID=UTC:20240615T120000
DTSTAMP:20260421T122536
CREATED:20240723T122220Z
LAST-MODIFIED:20240723T122220Z
UID:1979-1718445600-1718452800@beitdavid.org
SUMMARY:Shabbat Service and Shavuot Celebration
DESCRIPTION:Celebrate the Feast of Weeks\, commemorating God’s gift of the Torah at Mount Sinai. Weekly worship service\, including prayer and liturgy.  This week is our Messianic Perspectives service and we will meet in person\, and also share the service online via Zoom.
URL:https://beitdavid.org/events-calendar/shabbat-service-and-shavuot-celebration-3/
END:VEVENT
BEGIN:VEVENT
DTSTART;TZID=UTC:20240615T130000
DTEND;TZID=UTC:20240615T150000
DTSTAMP:20260421T122536
CREATED:20240723T122252Z
LAST-MODIFIED:20240723T122252Z
UID:1981-1718456400-1718463600@beitdavid.org
SUMMARY:Bible Study
DESCRIPTION:Join us for weekly Bible study/Torah Club after morning services. We begin after our oneg meal and also share the discussion on Zoom.  Contact us for details.
URL:https://beitdavid.org/events-calendar/bible-study-146/
END:VEVENT
BEGIN:VEVENT
DTSTART;TZID=UTC:20240622T100000
DTEND;TZID=UTC:20240622T120000
DTSTAMP:20260421T122536
CREATED:20240723T122332Z
LAST-MODIFIED:20240723T122332Z
UID:1983-1719050400-1719057600@beitdavid.org
SUMMARY:Shabbat Service
DESCRIPTION:Weekly worship service\, including prayer and liturgy.  This week is our Family service and we will meet in person\, and also share the service online via Zoom. Contact us for details.
URL:https://beitdavid.org/events-calendar/shabbat-service-141/
END:VEVENT
BEGIN:VEVENT
DTSTART;TZID=UTC:20240622T130000
DTEND;TZID=UTC:20240622T150000
DTSTAMP:20260421T122536
CREATED:20240723T122406Z
LAST-MODIFIED:20240723T122406Z
UID:1985-1719061200-1719068400@beitdavid.org
SUMMARY:Bible Study
DESCRIPTION:Join us for weekly Bible study/Torah Club after morning services. We begin after our oneg meal and also share the discussion on Zoom.  Contact us for details.
URL:https://beitdavid.org/events-calendar/bible-study-147/
END:VEVENT
BEGIN:VEVENT
DTSTART;TZID=UTC:20240629T100000
DTEND;TZID=UTC:20240629T120000
DTSTAMP:20260421T122536
CREATED:20240723T122442Z
LAST-MODIFIED:20240723T122442Z
UID:1987-1719655200-1719662400@beitdavid.org
SUMMARY:Shabbat Service
DESCRIPTION:Weekly worship service\, including prayer and liturgy.  This week is our service to focus on worship and we will meet in person\, and also share the service online via Zoom. Contact us for details.
URL:https://beitdavid.org/events-calendar/shabbat-service-142/
END:VEVENT
BEGIN:VEVENT
DTSTART;TZID=UTC:20240629T130000
DTEND;TZID=UTC:20240629T150000
DTSTAMP:20260421T122536
CREATED:20240723T122512Z
LAST-MODIFIED:20240723T122512Z
UID:1989-1719666000-1719673200@beitdavid.org
SUMMARY:Bible Study
DESCRIPTION:Join us for weekly Bible study/Torah Club after morning services. We begin after our oneg meal and also share the discussion on Zoom.  Contact us for details.
URL:https://beitdavid.org/events-calendar/bible-study-148/
END:VEVENT
END:VCALENDAR