BEGIN:VCALENDAR
VERSION:2.0
PRODID:-//Beit David Messianic Fellowship - ECPv5.12.2//NONSGML v1.0//EN
CALSCALE:GREGORIAN
METHOD:PUBLISH
X-WR-CALNAME:Beit David Messianic Fellowship
X-ORIGINAL-URL:https://beitdavid.org
X-WR-CALDESC:Events for Beit David Messianic Fellowship
REFRESH-INTERVAL;VALUE=DURATION:PT1H
X-Robots-Tag:noindex
X-PUBLISHED-TTL:PT1H
BEGIN:VTIMEZONE
TZID:UTC
BEGIN:STANDARD
TZOFFSETFROM:+0000
TZOFFSETTO:+0000
TZNAME:UTC
DTSTART:20240101T000000
END:STANDARD
END:VTIMEZONE
BEGIN:VEVENT
DTSTART;TZID=UTC:20240706T100000
DTEND;TZID=UTC:20240706T120000
DTSTAMP:20260421T110813
CREATED:20240723T122541Z
LAST-MODIFIED:20240723T122541Z
UID:1991-1720260000-1720267200@beitdavid.org
SUMMARY:Shabbat Service
DESCRIPTION:Weekly worship service\, including prayer and liturgy.  This week is our Torah service and we will meet in person\, and also share the service online via Zoom. Contact us for details.
URL:https://beitdavid.org/events-calendar/shabbat-service-143/
END:VEVENT
BEGIN:VEVENT
DTSTART;TZID=UTC:20240706T130000
DTEND;TZID=UTC:20240706T150000
DTSTAMP:20260421T110813
CREATED:20240723T122651Z
LAST-MODIFIED:20240723T122651Z
UID:1993-1720270800-1720278000@beitdavid.org
SUMMARY:Bible Study
DESCRIPTION:Join us for weekly Bible study/Torah Club after morning services. We begin after our oneg meal and also share the discussion on Zoom.  Contact us for details.
URL:https://beitdavid.org/events-calendar/bible-study-149/
END:VEVENT
BEGIN:VEVENT
DTSTART;TZID=UTC:20240713T100000
DTEND;TZID=UTC:20240713T120000
DTSTAMP:20260421T110813
CREATED:20240723T122718Z
LAST-MODIFIED:20240723T122718Z
UID:1995-1720864800-1720872000@beitdavid.org
SUMMARY:Shabbat Service
DESCRIPTION:Weekly worship service\, including prayer and liturgy.  This week is our Prayer and Healing service and we will meet in person\, and also share the service online via Zoom. Contact us for details.
URL:https://beitdavid.org/events-calendar/shabbat-service-144/
END:VEVENT
BEGIN:VEVENT
DTSTART;TZID=UTC:20240713T130000
DTEND;TZID=UTC:20240713T150000
DTSTAMP:20260421T110813
CREATED:20240723T122743Z
LAST-MODIFIED:20240723T122743Z
UID:1997-1720875600-1720882800@beitdavid.org
SUMMARY:Bible Study
DESCRIPTION:Join us for weekly Bible study/Torah Club after morning services. We begin after our oneg meal and also share the discussion on Zoom.  Contact us for details.
URL:https://beitdavid.org/events-calendar/bible-study-150/
END:VEVENT
BEGIN:VEVENT
DTSTART;TZID=UTC:20240720T100000
DTEND;TZID=UTC:20240720T120000
DTSTAMP:20260421T110813
CREATED:20240723T122811Z
LAST-MODIFIED:20240723T122811Z
UID:1999-1721469600-1721476800@beitdavid.org
SUMMARY:Shabbat Service
DESCRIPTION:Weekly worship service\, including prayer and liturgy.  This week is our Messianic Perspectives service and we will meet in person\, and also share the service online via Zoom. Contact us for details.
URL:https://beitdavid.org/events-calendar/shabbat-service-145/
END:VEVENT
BEGIN:VEVENT
DTSTART;TZID=UTC:20240720T130000
DTEND;TZID=UTC:20240720T150000
DTSTAMP:20260421T110813
CREATED:20240723T122904Z
LAST-MODIFIED:20240723T122904Z
UID:2001-1721480400-1721487600@beitdavid.org
SUMMARY:Bible Study
DESCRIPTION:Join us for weekly Bible study/Torah Club after morning services. We begin after our oneg meal and also share the discussion on Zoom.  Contact us for details.
URL:https://beitdavid.org/events-calendar/bible-study-151/
END:VEVENT
BEGIN:VEVENT
DTSTART;TZID=UTC:20240727T100000
DTEND;TZID=UTC:20240727T120000
DTSTAMP:20260421T110813
CREATED:20240723T122930Z
LAST-MODIFIED:20240723T122930Z
UID:2003-1722074400-1722081600@beitdavid.org
SUMMARY:Shabbat Service
DESCRIPTION:Weekly worship service\, including prayer and liturgy.  This week is our Family service and we will meet in person\, and also share the service online via Zoom. Contact us for details.
URL:https://beitdavid.org/events-calendar/shabbat-service-146/
END:VEVENT
BEGIN:VEVENT
DTSTART;TZID=UTC:20240727T130000
DTEND;TZID=UTC:20240727T150000
DTSTAMP:20260421T110813
CREATED:20240723T123128Z
LAST-MODIFIED:20240723T123128Z
UID:2005-1722085200-1722092400@beitdavid.org
SUMMARY:Bible Study
DESCRIPTION:Join us for weekly Bible study/Torah Club after morning services. We begin after our oneg meal and also share the discussion on Zoom.  Contact us for details.
URL:https://beitdavid.org/events-calendar/bible-study-152/
END:VEVENT
END:VCALENDAR