BEGIN:VCALENDAR
VERSION:2.0
PRODID:-//Beit David Messianic Fellowship - ECPv5.12.2//NONSGML v1.0//EN
CALSCALE:GREGORIAN
METHOD:PUBLISH
X-WR-CALNAME:Beit David Messianic Fellowship
X-ORIGINAL-URL:https://beitdavid.org
X-WR-CALDESC:Events for Beit David Messianic Fellowship
REFRESH-INTERVAL;VALUE=DURATION:PT1H
X-Robots-Tag:noindex
X-PUBLISHED-TTL:PT1H
BEGIN:VTIMEZONE
TZID:UTC
BEGIN:STANDARD
TZOFFSETFROM:+0000
TZOFFSETTO:+0000
TZNAME:UTC
DTSTART:20240101T000000
END:STANDARD
END:VTIMEZONE
BEGIN:VEVENT
DTSTART;TZID=UTC:20240803T100000
DTEND;TZID=UTC:20240803T120000
DTSTAMP:20260421T095118
CREATED:20240723T123200Z
LAST-MODIFIED:20240723T123200Z
UID:2007-1722679200-1722686400@beitdavid.org
SUMMARY:Shabbat Service
DESCRIPTION:Weekly worship service\, including prayer and liturgy.  This week is our Torah service and we will meet in person\, and also share the service online via Zoom. Contact us for details.
URL:https://beitdavid.org/events-calendar/shabbat-service-147/
END:VEVENT
BEGIN:VEVENT
DTSTART;TZID=UTC:20240803T130000
DTEND;TZID=UTC:20240803T150000
DTSTAMP:20260421T095118
CREATED:20240723T123233Z
LAST-MODIFIED:20240723T123237Z
UID:2009-1722690000-1722697200@beitdavid.org
SUMMARY:Bible Study
DESCRIPTION:Join us for weekly Bible study/Torah Club after morning services. We begin after our oneg meal and also share the discussion on Zoom.  Contact us for details.
URL:https://beitdavid.org/events-calendar/bible-study-153/
END:VEVENT
BEGIN:VEVENT
DTSTART;TZID=UTC:20240810T100000
DTEND;TZID=UTC:20240810T120000
DTSTAMP:20260421T095118
CREATED:20240723T123311Z
LAST-MODIFIED:20240723T123311Z
UID:2011-1723284000-1723291200@beitdavid.org
SUMMARY:Shabbat Service
DESCRIPTION:Weekly worship service\, including prayer and liturgy.  This week is our Prayer and Healing service and we will meet in person\, and also share the service online via Zoom. Contact us for details.
URL:https://beitdavid.org/events-calendar/shabbat-service-148/
END:VEVENT
BEGIN:VEVENT
DTSTART;TZID=UTC:20240810T130000
DTEND;TZID=UTC:20240810T150000
DTSTAMP:20260421T095118
CREATED:20240723T123342Z
LAST-MODIFIED:20240723T123342Z
UID:2013-1723294800-1723302000@beitdavid.org
SUMMARY:Bible Study
DESCRIPTION:Join us for weekly Bible study/Torah Club after morning services. We begin after our oneg meal and also share the discussion on Zoom.  Contact us for details.
URL:https://beitdavid.org/events-calendar/bible-study-154/
END:VEVENT
BEGIN:VEVENT
DTSTART;TZID=UTC:20240817T100000
DTEND;TZID=UTC:20240817T120000
DTSTAMP:20260421T095118
CREATED:20240723T123409Z
LAST-MODIFIED:20240723T123409Z
UID:2015-1723888800-1723896000@beitdavid.org
SUMMARY:Shabbat Service
DESCRIPTION:Weekly worship service\, including prayer and liturgy.  This week is our Messianic Perspectives service and we will meet in person\, and also share the service online via Zoom. Contact us for details.
URL:https://beitdavid.org/events-calendar/shabbat-service-149/
END:VEVENT
BEGIN:VEVENT
DTSTART;TZID=UTC:20240817T130000
DTEND;TZID=UTC:20240817T150000
DTSTAMP:20260421T095118
CREATED:20240723T123435Z
LAST-MODIFIED:20240723T123435Z
UID:2017-1723899600-1723906800@beitdavid.org
SUMMARY:Bible Study
DESCRIPTION:Join us for weekly Bible study/Torah Club after morning services. We begin after our oneg meal and also share the discussion on Zoom.  Contact us for details.
URL:https://beitdavid.org/events-calendar/bible-study-155/
END:VEVENT
BEGIN:VEVENT
DTSTART;TZID=UTC:20240824T100000
DTEND;TZID=UTC:20240824T120000
DTSTAMP:20260421T095118
CREATED:20240723T125114Z
LAST-MODIFIED:20240723T125114Z
UID:2019-1724493600-1724500800@beitdavid.org
SUMMARY:Shabbat Service
DESCRIPTION:Weekly worship service\, including prayer and liturgy.  This week is our Family service and we will meet in person\, and also share the service online via Zoom. Contact us for details.
URL:https://beitdavid.org/events-calendar/shabbat-service-150/
END:VEVENT
BEGIN:VEVENT
DTSTART;TZID=UTC:20240824T130000
DTEND;TZID=UTC:20240824T150000
DTSTAMP:20260421T095118
CREATED:20240723T125141Z
LAST-MODIFIED:20240723T125141Z
UID:2021-1724504400-1724511600@beitdavid.org
SUMMARY:Bible Study
DESCRIPTION:Join us for weekly Bible study/Torah Club after morning services. We begin after our oneg meal and also share the discussion on Zoom.  Contact us for details.
URL:https://beitdavid.org/events-calendar/bible-study-156/
END:VEVENT
BEGIN:VEVENT
DTSTART;VALUE=DATE:20240831
DTEND;VALUE=DATE:20240901
DTSTAMP:20260421T095118
CREATED:20240723T125202Z
LAST-MODIFIED:20240723T125202Z
UID:2023-1725062400-1725148799@beitdavid.org
SUMMARY:Holiday Weekend – No Shabbat Service
DESCRIPTION:We will not be holding our Shabbat services.  We are taking this time to allow our leaders an opportunity for rest and rejuvenation.
URL:https://beitdavid.org/events-calendar/holiday-weekend-no-shabbat-service-6/
END:VEVENT
END:VCALENDAR