BEGIN:VCALENDAR
VERSION:2.0
PRODID:-//Beit David Messianic Fellowship - ECPv5.12.2//NONSGML v1.0//EN
CALSCALE:GREGORIAN
METHOD:PUBLISH
X-WR-CALNAME:Beit David Messianic Fellowship
X-ORIGINAL-URL:https://beitdavid.org
X-WR-CALDESC:Events for Beit David Messianic Fellowship
REFRESH-INTERVAL;VALUE=DURATION:PT1H
X-Robots-Tag:noindex
X-PUBLISHED-TTL:PT1H
BEGIN:VTIMEZONE
TZID:UTC
BEGIN:STANDARD
TZOFFSETFROM:+0000
TZOFFSETTO:+0000
TZNAME:UTC
DTSTART:20240101T000000
END:STANDARD
END:VTIMEZONE
BEGIN:VEVENT
DTSTART;TZID=UTC:20240907T100000
DTEND;TZID=UTC:20240907T120000
DTSTAMP:20260421T083444
CREATED:20240723T125233Z
LAST-MODIFIED:20240723T125233Z
UID:2025-1725703200-1725710400@beitdavid.org
SUMMARY:Shabbat Service
DESCRIPTION:Weekly worship service\, including prayer and liturgy.  This week is our Torah service and we will meet in person\, and also share the service online via Zoom. Contact us for details.
URL:https://beitdavid.org/events-calendar/shabbat-service-151/
END:VEVENT
BEGIN:VEVENT
DTSTART;TZID=UTC:20240907T130000
DTEND;TZID=UTC:20240907T150000
DTSTAMP:20260421T083444
CREATED:20240723T125310Z
LAST-MODIFIED:20240723T125310Z
UID:2027-1725714000-1725721200@beitdavid.org
SUMMARY:Bible Study
DESCRIPTION:Join us for weekly Bible study/Torah Club after morning services. We begin after our oneg meal and also share the discussion on Zoom.  Contact us for details.
URL:https://beitdavid.org/events-calendar/bible-study-157/
END:VEVENT
BEGIN:VEVENT
DTSTART;TZID=UTC:20240914T100000
DTEND;TZID=UTC:20240914T120000
DTSTAMP:20260421T083444
CREATED:20240723T125340Z
LAST-MODIFIED:20240723T125340Z
UID:2029-1726308000-1726315200@beitdavid.org
SUMMARY:Shabbat Service
DESCRIPTION:Weekly worship service\, including prayer and liturgy.  This week is our Prayer and Healing service and we will meet in person\, and also share the service online via Zoom. Contact us for details.
URL:https://beitdavid.org/events-calendar/shabbat-service-152/
END:VEVENT
BEGIN:VEVENT
DTSTART;TZID=UTC:20240914T130000
DTEND;TZID=UTC:20240914T150000
DTSTAMP:20260421T083444
CREATED:20240723T125410Z
LAST-MODIFIED:20240723T125410Z
UID:2031-1726318800-1726326000@beitdavid.org
SUMMARY:Bible Study
DESCRIPTION:Join us for weekly Bible study/Torah Club after morning services. We begin after our oneg meal and also share the discussion on Zoom.  Contact us for details.
URL:https://beitdavid.org/events-calendar/bible-study-158/
END:VEVENT
BEGIN:VEVENT
DTSTART;TZID=UTC:20240921T100000
DTEND;TZID=UTC:20240921T120000
DTSTAMP:20260421T083444
CREATED:20240723T125433Z
LAST-MODIFIED:20240723T125433Z
UID:2033-1726912800-1726920000@beitdavid.org
SUMMARY:Shabbat Service
DESCRIPTION:Weekly worship service\, including prayer and liturgy.  This week is our Messianic Perspectives service and we will meet in person\, and also share the service online via Zoom. Contact us for details.
URL:https://beitdavid.org/events-calendar/shabbat-service-153/
END:VEVENT
BEGIN:VEVENT
DTSTART;TZID=UTC:20240921T130000
DTEND;TZID=UTC:20240921T150000
DTSTAMP:20260421T083444
CREATED:20240723T125459Z
LAST-MODIFIED:20240723T125459Z
UID:2035-1726923600-1726930800@beitdavid.org
SUMMARY:Bible Study
DESCRIPTION:Join us for weekly Bible study/Torah Club after morning services. We begin after our oneg meal and also share the discussion on Zoom.  Contact us for details.
URL:https://beitdavid.org/events-calendar/bible-study-159/
END:VEVENT
BEGIN:VEVENT
DTSTART;TZID=UTC:20240928T100000
DTEND;TZID=UTC:20240928T120000
DTSTAMP:20260421T083444
CREATED:20240723T125521Z
LAST-MODIFIED:20240723T125521Z
UID:2037-1727517600-1727524800@beitdavid.org
SUMMARY:Shabbat Service
DESCRIPTION:Weekly worship service\, including prayer and liturgy.  This week is our Family service and we will meet in person\, and also share the service online via Zoom. Contact us for details.
URL:https://beitdavid.org/events-calendar/shabbat-service-154/
END:VEVENT
BEGIN:VEVENT
DTSTART;TZID=UTC:20240928T130000
DTEND;TZID=UTC:20240928T150000
DTSTAMP:20260421T083444
CREATED:20240723T125545Z
LAST-MODIFIED:20240723T125545Z
UID:2039-1727528400-1727535600@beitdavid.org
SUMMARY:Bible Study
DESCRIPTION:Join us for weekly Bible study/Torah Club after morning services. We begin after our oneg meal and also share the discussion on Zoom.  Contact us for details.
URL:https://beitdavid.org/events-calendar/bible-study-160/
END:VEVENT
END:VCALENDAR