BEGIN:VCALENDAR
VERSION:2.0
PRODID:-//Beit David Messianic Fellowship - ECPv5.12.2//NONSGML v1.0//EN
CALSCALE:GREGORIAN
METHOD:PUBLISH
X-WR-CALNAME:Beit David Messianic Fellowship
X-ORIGINAL-URL:https://beitdavid.org
X-WR-CALDESC:Events for Beit David Messianic Fellowship
REFRESH-INTERVAL;VALUE=DURATION:PT1H
X-Robots-Tag:noindex
X-PUBLISHED-TTL:PT1H
BEGIN:VTIMEZONE
TZID:UTC
BEGIN:STANDARD
TZOFFSETFROM:+0000
TZOFFSETTO:+0000
TZNAME:UTC
DTSTART:20240101T000000
END:STANDARD
END:VTIMEZONE
BEGIN:VEVENT
DTSTART;TZID=UTC:20241002T190000
DTEND;TZID=UTC:20241002T210000
DTSTAMP:20260421T070512
CREATED:20240723T125748Z
LAST-MODIFIED:20240723T125748Z
UID:2041-1727895600-1727902800@beitdavid.org
SUMMARY:Erev Rosh Hashanah Shabbat Service
DESCRIPTION:Join us as we welcome the new year with our celebration of the Feast of Trumpets! We will meet in person\, and also share the service online via Zoom. Contact us for details.
URL:https://beitdavid.org/events-calendar/erev-rosh-hashanah-shabbat-service/
END:VEVENT
BEGIN:VEVENT
DTSTART;TZID=UTC:20241005T100000
DTEND;TZID=UTC:20241005T120000
DTSTAMP:20260421T070512
CREATED:20240723T125818Z
LAST-MODIFIED:20240723T125818Z
UID:2043-1728122400-1728129600@beitdavid.org
SUMMARY:Shabbat Shuvah Service
DESCRIPTION:Shabbat Shuvah is the Shabbat that occurs during the Ten Days of Repentance between Rosh Hashanah and Yom Kippur. \nWeekly worship service\, including prayer and liturgy.  This week is our Torah service and we will meet in person\, and also share the service online via Zoom. Contact us for details.
URL:https://beitdavid.org/events-calendar/shabbat-shuvah-service-2/
END:VEVENT
BEGIN:VEVENT
DTSTART;TZID=UTC:20241005T130000
DTEND;TZID=UTC:20241005T150000
DTSTAMP:20260421T070512
CREATED:20240723T125857Z
LAST-MODIFIED:20240723T125857Z
UID:2045-1728133200-1728140400@beitdavid.org
SUMMARY:Bible Study
DESCRIPTION:Join us for weekly Bible study/Torah Club after morning services. We begin after our oneg meal and also share the discussion on Zoom.  Contact us for details.
URL:https://beitdavid.org/events-calendar/bible-study-161/
END:VEVENT
BEGIN:VEVENT
DTSTART;TZID=UTC:20241011T190000
DTEND;TZID=UTC:20241011T210000
DTSTAMP:20260421T070512
CREATED:20240723T125941Z
LAST-MODIFIED:20240723T125941Z
UID:2047-1728673200-1728680400@beitdavid.org
SUMMARY:Kol Nidre Service
DESCRIPTION:Join us for the opening of the Day of Atonement\, Yom Kippur.  We will meet in person\, and also share the service online via Zoom. Contact us for details.
URL:https://beitdavid.org/events-calendar/kol-nidre-service-5/
END:VEVENT
BEGIN:VEVENT
DTSTART;TZID=UTC:20241012T170000
DTEND;TZID=UTC:20241012T190000
DTSTAMP:20260421T070512
CREATED:20240723T130010Z
LAST-MODIFIED:20240723T130010Z
UID:2049-1728752400-1728759600@beitdavid.org
SUMMARY:Yom Kippur Service
DESCRIPTION:Join us as we conclude Yom Kippur\, the Day of Atonement.  We will meet in person\, and also share the service online via Zoom. Contact us for details.
URL:https://beitdavid.org/events-calendar/yom-kippur-service-5/
END:VEVENT
BEGIN:VEVENT
DTSTART;TZID=UTC:20241012T190000
DTEND;TZID=UTC:20241012T210000
DTSTAMP:20260421T070512
CREATED:20240723T130036Z
LAST-MODIFIED:20240723T130036Z
UID:2051-1728759600-1728766800@beitdavid.org
SUMMARY:Yom Kippur Break-the-Fast Meal
DESCRIPTION:Join us after the Yom Kippur service as we share a potluck meal to break the fast together.  Feel free to bring something to share.
URL:https://beitdavid.org/events-calendar/yom-kippur-break-the-fast-meal-4/
END:VEVENT
BEGIN:VEVENT
DTSTART;TZID=UTC:20241019T100000
DTEND;TZID=UTC:20241019T120000
DTSTAMP:20260421T070512
CREATED:20240723T130104Z
LAST-MODIFIED:20240723T130104Z
UID:2053-1729332000-1729339200@beitdavid.org
SUMMARY:Shabbat Service and Sukkot Celebration
DESCRIPTION:Come celebrate the Feast of Tabernacles with us and wave the lulav and etrog to thank God for His blessings! \nWeekly worship service\, including prayer and liturgy.  This week is our Sukkot celebration and we will meet in person\, and also share the service online via Zoom. Contact us for details.
URL:https://beitdavid.org/events-calendar/shabbat-service-and-sukkot-celebration-3/
END:VEVENT
BEGIN:VEVENT
DTSTART;TZID=UTC:20241019T130000
DTEND;TZID=UTC:20241019T150000
DTSTAMP:20260421T070512
CREATED:20240723T130130Z
LAST-MODIFIED:20240723T130130Z
UID:2055-1729342800-1729350000@beitdavid.org
SUMMARY:Bible Study
DESCRIPTION:We’ll continue the celebration of Sukkot through our Bible study time. \nJoin us for weekly Bible study/Torah Club after morning services. We begin after our oneg meal and also share the discussion on Zoom.  Contact us for details.
URL:https://beitdavid.org/events-calendar/bible-study-162/
END:VEVENT
BEGIN:VEVENT
DTSTART;TZID=UTC:20241026T100000
DTEND;TZID=UTC:20241026T120000
DTSTAMP:20260421T070512
CREATED:20240723T130200Z
LAST-MODIFIED:20240723T130200Z
UID:2057-1729936800-1729944000@beitdavid.org
SUMMARY:Shabbat Service and Simchat Torah Celebration
DESCRIPTION:Come share in the Joy of the Torah with us! \nWeekly worship service\, including prayer and liturgy.  This week is our Simchat Torah Celebration service and we will meet in person\, and also share the service online via Zoom. Contact us for details.
URL:https://beitdavid.org/events-calendar/shabbat-service-and-simchat-torah-celebration-4/
END:VEVENT
BEGIN:VEVENT
DTSTART;TZID=UTC:20241026T130000
DTEND;TZID=UTC:20241026T150000
DTSTAMP:20260421T070512
CREATED:20240723T130232Z
LAST-MODIFIED:20240723T130232Z
UID:2059-1729947600-1729954800@beitdavid.org
SUMMARY:Bible Study
DESCRIPTION:We’ll continue our celebration of Simchat Torah through our Bible study time. \nJoin us for weekly Bible study/Torah Club after morning services. We begin after our oneg meal and also share the discussion on Zoom.  Contact us for details.
URL:https://beitdavid.org/events-calendar/bible-study-163/
END:VEVENT
END:VCALENDAR