BEGIN:VCALENDAR
VERSION:2.0
PRODID:-//Beit David Messianic Fellowship - ECPv5.12.2//NONSGML v1.0//EN
CALSCALE:GREGORIAN
METHOD:PUBLISH
X-WR-CALNAME:Beit David Messianic Fellowship
X-ORIGINAL-URL:https://beitdavid.org
X-WR-CALDESC:Events for Beit David Messianic Fellowship
REFRESH-INTERVAL;VALUE=DURATION:PT1H
X-Robots-Tag:noindex
X-PUBLISHED-TTL:PT1H
BEGIN:VTIMEZONE
TZID:UTC
BEGIN:STANDARD
TZOFFSETFROM:+0000
TZOFFSETTO:+0000
TZNAME:UTC
DTSTART:20240101T000000
END:STANDARD
END:VTIMEZONE
BEGIN:VEVENT
DTSTART;TZID=UTC:20241102T100000
DTEND;TZID=UTC:20241102T120000
DTSTAMP:20260421T053147
CREATED:20240723T130302Z
LAST-MODIFIED:20240723T130302Z
UID:2061-1730541600-1730548800@beitdavid.org
SUMMARY:Shabbat Service
DESCRIPTION:Weekly worship service\, including prayer and liturgy.  This week is our Torah service and we will meet in person\, and also share the service online via Zoom. Contact us for details.
URL:https://beitdavid.org/events-calendar/shabbat-service-155/
END:VEVENT
BEGIN:VEVENT
DTSTART;TZID=UTC:20241102T130000
DTEND;TZID=UTC:20241102T150000
DTSTAMP:20260421T053147
CREATED:20240723T130331Z
LAST-MODIFIED:20240723T130331Z
UID:2063-1730552400-1730559600@beitdavid.org
SUMMARY:Bible Study
DESCRIPTION:Join us for weekly Bible study/Torah Club after morning services. We begin after our oneg meal and also share the discussion on Zoom.  Contact us for details.
URL:https://beitdavid.org/events-calendar/bible-study-164/
END:VEVENT
BEGIN:VEVENT
DTSTART;TZID=UTC:20241109T100000
DTEND;TZID=UTC:20241109T120000
DTSTAMP:20260421T053147
CREATED:20240723T130409Z
LAST-MODIFIED:20240723T130409Z
UID:2065-1731146400-1731153600@beitdavid.org
SUMMARY:Shabbat Service
DESCRIPTION:Weekly worship service\, including prayer and liturgy.  This week is our Prayer and Healing service and we will meet in person\, and also share the service online via Zoom. Contact us for details.
URL:https://beitdavid.org/events-calendar/shabbat-service-156/
END:VEVENT
BEGIN:VEVENT
DTSTART;TZID=UTC:20241109T130000
DTEND;TZID=UTC:20241109T150000
DTSTAMP:20260421T053147
CREATED:20240723T130440Z
LAST-MODIFIED:20240723T130440Z
UID:2067-1731157200-1731164400@beitdavid.org
SUMMARY:Beit David Annual Meeting
DESCRIPTION:Join us for our annual meeting after morning services. We begin after our oneg meal and also share the discussion on Zoom.  Contact us for details.
URL:https://beitdavid.org/events-calendar/beit-david-annual-meeting-2/
END:VEVENT
BEGIN:VEVENT
DTSTART;TZID=UTC:20241116T100000
DTEND;TZID=UTC:20241116T120000
DTSTAMP:20260421T053147
CREATED:20240723T130520Z
LAST-MODIFIED:20240723T130520Z
UID:2069-1731751200-1731758400@beitdavid.org
SUMMARY:Shabbat Service
DESCRIPTION:Weekly worship service\, including prayer and liturgy.  This week is our Messianic Perspectives service and we will meet in person\, and also share the service online via Zoom. Contact us for details.
URL:https://beitdavid.org/events-calendar/shabbat-service-157/
END:VEVENT
BEGIN:VEVENT
DTSTART;TZID=UTC:20241116T130000
DTEND;TZID=UTC:20241116T150000
DTSTAMP:20260421T053147
CREATED:20240723T130602Z
LAST-MODIFIED:20240723T130602Z
UID:2071-1731762000-1731769200@beitdavid.org
SUMMARY:Bible Study
DESCRIPTION:Join us for weekly Bible study/Torah Club after morning services. We begin after our oneg meal and also share the discussion on Zoom.  Contact us for details.
URL:https://beitdavid.org/events-calendar/bible-study-165/
END:VEVENT
BEGIN:VEVENT
DTSTART;TZID=UTC:20241123T100000
DTEND;TZID=UTC:20241123T120000
DTSTAMP:20260421T053147
CREATED:20240723T130638Z
LAST-MODIFIED:20240723T130638Z
UID:2073-1732356000-1732363200@beitdavid.org
SUMMARY:Shabbat Service
DESCRIPTION:Weekly worship service\, including prayer and liturgy.  This week is our Family service and we will meet in person\, and also share the service online via Zoom. Contact us for details.
URL:https://beitdavid.org/events-calendar/shabbat-service-158/
END:VEVENT
BEGIN:VEVENT
DTSTART;TZID=UTC:20241123T130000
DTEND;TZID=UTC:20241123T150000
DTSTAMP:20260421T053147
CREATED:20240723T130707Z
LAST-MODIFIED:20240723T130707Z
UID:2075-1732366800-1732374000@beitdavid.org
SUMMARY:Bible Study
DESCRIPTION:Join us for weekly Bible study/Torah Club after morning services. We begin after our oneg meal and also share the discussion on Zoom.  Contact us for details.
URL:https://beitdavid.org/events-calendar/bible-study-166/
END:VEVENT
BEGIN:VEVENT
DTSTART;VALUE=DATE:20241130
DTEND;VALUE=DATE:20241201
DTSTAMP:20260421T053147
CREATED:20240723T130732Z
LAST-MODIFIED:20240723T130732Z
UID:2077-1732924800-1733011199@beitdavid.org
SUMMARY:Thanksgiving Holiday Weekend – No Shabbat Service
DESCRIPTION:We will not be holding our Shabbat services.  We are taking this time to allow our leaders an opportunity for rest and rejuvenation.
URL:https://beitdavid.org/events-calendar/thanksgiving-holiday-weekend-no-shabbat-service-2/
END:VEVENT
END:VCALENDAR