BEGIN:VCALENDAR
VERSION:2.0
PRODID:-//Beit David Messianic Fellowship - ECPv5.12.2//NONSGML v1.0//EN
CALSCALE:GREGORIAN
METHOD:PUBLISH
X-WR-CALNAME:Beit David Messianic Fellowship
X-ORIGINAL-URL:https://beitdavid.org
X-WR-CALDESC:Events for Beit David Messianic Fellowship
REFRESH-INTERVAL;VALUE=DURATION:PT1H
X-Robots-Tag:noindex
X-PUBLISHED-TTL:PT1H
BEGIN:VTIMEZONE
TZID:UTC
BEGIN:STANDARD
TZOFFSETFROM:+0000
TZOFFSETTO:+0000
TZNAME:UTC
DTSTART:20250101T000000
END:STANDARD
END:VTIMEZONE
BEGIN:VEVENT
DTSTART;TZID=UTC:20250201T100000
DTEND;TZID=UTC:20250201T120000
DTSTAMP:20260421T011819
CREATED:20250317T094105Z
LAST-MODIFIED:20250317T094105Z
UID:2206-1738404000-1738411200@beitdavid.org
SUMMARY:Shabbat Service
DESCRIPTION:Weekly worship service\, including prayer and liturgy.  This week is our Torah service and we will meet in person\, and also share the service online via Zoom. Contact us for details.
URL:https://beitdavid.org/events-calendar/shabbat-service-183/
END:VEVENT
BEGIN:VEVENT
DTSTART;TZID=UTC:20250201T130000
DTEND;TZID=UTC:20250201T150000
DTSTAMP:20260421T011819
CREATED:20250317T070701Z
LAST-MODIFIED:20250317T070701Z
UID:2125-1738414800-1738422000@beitdavid.org
SUMMARY:Bible Study
DESCRIPTION:Join us for weekly Bible study/Torah Club after morning services. We begin after our oneg meal and share the discussion on Zoom.  Contact us for details.
URL:https://beitdavid.org/events-calendar/bible-study-173/
END:VEVENT
BEGIN:VEVENT
DTSTART;TZID=UTC:20250208T100000
DTEND;TZID=UTC:20250208T120000
DTSTAMP:20260421T011819
CREATED:20250317T070736Z
LAST-MODIFIED:20250317T070736Z
UID:2127-1739008800-1739016000@beitdavid.org
SUMMARY:Shabbat Service and Tu B’Shevat Celebration
DESCRIPTION:Come learn about the New Year of Trees. Weekly worship service\, including prayer and liturgy. This week is our Prayer and Healing service and we will meet in person\, and also share the service online via Zoom. Contact us for details.
URL:https://beitdavid.org/events-calendar/shabbat-service-and-tu-bshevat-celebration-4/
END:VEVENT
BEGIN:VEVENT
DTSTART;TZID=UTC:20250208T130000
DTEND;TZID=UTC:20250208T150000
DTSTAMP:20260421T011819
CREATED:20250317T070806Z
LAST-MODIFIED:20250317T070806Z
UID:2129-1739019600-1739026800@beitdavid.org
SUMMARY:Bible Study
DESCRIPTION:Join us for weekly Bible study/Torah Club after morning services. We begin after our oneg meal and share the discussion on Zoom. Contact us for details.
URL:https://beitdavid.org/events-calendar/bible-study-174/
END:VEVENT
BEGIN:VEVENT
DTSTART;TZID=UTC:20250215T100000
DTEND;TZID=UTC:20250215T120000
DTSTAMP:20260421T011819
CREATED:20250317T070841Z
LAST-MODIFIED:20250317T070841Z
UID:2131-1739613600-1739620800@beitdavid.org
SUMMARY:MJAA Conference in Irvine – No Shabbat Service in Long Beach
DESCRIPTION:We will be joining the Community Shabbat Torah Service at the MJAA Conference in Irvine. Everyone is welcome. No services in Long Beach. Contact us for details.
URL:https://beitdavid.org/events-calendar/mjaa-conference-in-irvine-no-shabbat-service-in-long-beach-3/
END:VEVENT
BEGIN:VEVENT
DTSTART;TZID=UTC:20250222T100000
DTEND;TZID=UTC:20250222T120000
DTSTAMP:20260421T011819
CREATED:20250317T070913Z
LAST-MODIFIED:20250317T070913Z
UID:2133-1740218400-1740225600@beitdavid.org
SUMMARY:Shabbat Service
DESCRIPTION:Weekly worship service\, including prayer and liturgy.  This week is our Family service and we will meet in person\, and also share the service online via Zoom. Contact us for details.
URL:https://beitdavid.org/events-calendar/shabbat-service-167/
END:VEVENT
BEGIN:VEVENT
DTSTART;TZID=UTC:20250222T130000
DTEND;TZID=UTC:20250222T150000
DTSTAMP:20260421T011819
CREATED:20250317T070942Z
LAST-MODIFIED:20250317T070942Z
UID:2135-1740229200-1740236400@beitdavid.org
SUMMARY:Bible Study
DESCRIPTION:Join us for weekly Bible study/Torah Club after morning services. We begin after our oneg meal and also share the discussion on Zoom.  Contact us for details.
URL:https://beitdavid.org/events-calendar/bible-study-175/
END:VEVENT
END:VCALENDAR