BEGIN:VCALENDAR
VERSION:2.0
PRODID:-//Beit David Messianic Fellowship - ECPv5.12.2//NONSGML v1.0//EN
CALSCALE:GREGORIAN
METHOD:PUBLISH
X-WR-CALNAME:Beit David Messianic Fellowship
X-ORIGINAL-URL:https://beitdavid.org
X-WR-CALDESC:Events for Beit David Messianic Fellowship
REFRESH-INTERVAL;VALUE=DURATION:PT1H
X-Robots-Tag:noindex
X-PUBLISHED-TTL:PT1H
BEGIN:VTIMEZONE
TZID:UTC
BEGIN:STANDARD
TZOFFSETFROM:+0000
TZOFFSETTO:+0000
TZNAME:UTC
DTSTART:20250101T000000
END:STANDARD
END:VTIMEZONE
BEGIN:VEVENT
DTSTART;TZID=UTC:20250301T100000
DTEND;TZID=UTC:20250301T120000
DTSTAMP:20260420T234913
CREATED:20250317T073805Z
LAST-MODIFIED:20250317T073805Z
UID:2137-1740823200-1740830400@beitdavid.org
SUMMARY:Shabbat Service
DESCRIPTION:Weekly worship service\, including prayer and liturgy.  This week is our Torah service and we will meet in person\, and also share the service online via Zoom. Contact us for details.
URL:https://beitdavid.org/events-calendar/shabbat-service-168/
END:VEVENT
BEGIN:VEVENT
DTSTART;TZID=UTC:20250301T130000
DTEND;TZID=UTC:20250301T150000
DTSTAMP:20260420T234913
CREATED:20250317T073834Z
LAST-MODIFIED:20250317T073834Z
UID:2140-1740834000-1740841200@beitdavid.org
SUMMARY:Bible Study
DESCRIPTION:Join us for weekly Bible study/Torah Club after morning services. We begin after our oneg meal and also share the discussion on Zoom. Contact us for details.
URL:https://beitdavid.org/events-calendar/bible-study-176/
END:VEVENT
BEGIN:VEVENT
DTSTART;TZID=UTC:20250308T100000
DTEND;TZID=UTC:20250308T120000
DTSTAMP:20260420T234913
CREATED:20250317T073917Z
LAST-MODIFIED:20250317T073917Z
UID:2142-1741428000-1741435200@beitdavid.org
SUMMARY:Shabbat Service
DESCRIPTION:Weekly worship service\, including prayer and liturgy. This week is our Prayer and Healing service and we will meet in person\, and also share the service online via Zoom. Contact us for details.
URL:https://beitdavid.org/events-calendar/shabbat-service-169/
END:VEVENT
BEGIN:VEVENT
DTSTART;TZID=UTC:20250308T130000
DTEND;TZID=UTC:20250308T150000
DTSTAMP:20260420T234913
CREATED:20250317T073956Z
LAST-MODIFIED:20250317T073956Z
UID:2144-1741438800-1741446000@beitdavid.org
SUMMARY:Bible Study
DESCRIPTION:Join us for weekly Bible study/Torah Club after morning services. We begin after our oneg meal and share the discussion on Zoom.  Contact us for details.
URL:https://beitdavid.org/events-calendar/bible-study-177/
END:VEVENT
BEGIN:VEVENT
DTSTART;TZID=UTC:20250315T100000
DTEND;TZID=UTC:20250315T120000
DTSTAMP:20260420T234913
CREATED:20250317T074027Z
LAST-MODIFIED:20250317T074027Z
UID:2146-1742032800-1742040000@beitdavid.org
SUMMARY:Shabbat Service
DESCRIPTION:Weekly worship service\, including prayer and liturgy.  This week is our Messianic Perspectives service and we will meet in person\, and also share the service online via Zoom. Contact us for details.
URL:https://beitdavid.org/events-calendar/shabbat-service-170/
END:VEVENT
BEGIN:VEVENT
DTSTART;TZID=UTC:20250315T130000
DTEND;TZID=UTC:20250315T150000
DTSTAMP:20260420T234913
CREATED:20250317T074321Z
LAST-MODIFIED:20250317T074321Z
UID:2148-1742043600-1742050800@beitdavid.org
SUMMARY:Purim Celebration
DESCRIPTION:Join us for our Purim Celebration after morning services. We’ll learn about the Festival of Lots\, and munch on hamantaschen as we read the story of Esther.  Contact us for details.
URL:https://beitdavid.org/events-calendar/purim-celebration-4/
END:VEVENT
BEGIN:VEVENT
DTSTART;TZID=UTC:20250322T100000
DTEND;TZID=UTC:20250322T120000
DTSTAMP:20260420T234913
CREATED:20250317T074353Z
LAST-MODIFIED:20250317T074353Z
UID:2150-1742637600-1742644800@beitdavid.org
SUMMARY:Shabbat Service
DESCRIPTION:Weekly worship service\, including prayer and liturgy.  This week is our Family service and we will meet in person\, and also share the service online via Zoom. Contact us for details.
URL:https://beitdavid.org/events-calendar/shabbat-service-171/
END:VEVENT
BEGIN:VEVENT
DTSTART;TZID=UTC:20250322T130000
DTEND;TZID=UTC:20250322T150000
DTSTAMP:20260420T234913
CREATED:20250317T074547Z
LAST-MODIFIED:20250317T074547Z
UID:2152-1742648400-1742655600@beitdavid.org
SUMMARY:Bible Study
DESCRIPTION:Join us for weekly Bible study/Torah Club after morning services. We begin after our oneg meal and share the discussion on Zoom.  Contact us for details.
URL:https://beitdavid.org/events-calendar/bible-study-178/
END:VEVENT
BEGIN:VEVENT
DTSTART;TZID=UTC:20250329T100000
DTEND;TZID=UTC:20250329T120000
DTSTAMP:20260420T234913
CREATED:20250317T074638Z
LAST-MODIFIED:20250325T043536Z
UID:2154-1743242400-1743249600@beitdavid.org
SUMMARY:Shabbat Service
DESCRIPTION:Weekly worship service\, including prayer and liturgy. This week is our service to focus on worship and we will meet in person\, and also share the service online via Zoom. Contact us for details.
URL:https://beitdavid.org/events-calendar/shabbat-service-172/
END:VEVENT
BEGIN:VEVENT
DTSTART;TZID=UTC:20250329T130000
DTEND;TZID=UTC:20250329T150000
DTSTAMP:20260420T234913
CREATED:20250317T074707Z
LAST-MODIFIED:20250325T043530Z
UID:2156-1743253200-1743260400@beitdavid.org
SUMMARY:Bible Study
DESCRIPTION:Join us for weekly Bible study/Torah Club after morning services. We begin after our oneg meal and also share the discussion on Zoom. Contact us for details.
URL:https://beitdavid.org/events-calendar/bible-study-179/
END:VEVENT
END:VCALENDAR